| Back to Multiple platform build/check report for BioC 3.10 |
|
This page was generated on 2020-04-15 12:06:41 -0400 (Wed, 15 Apr 2020).
| Package 1136/1823 | Hostname | OS / Arch | INSTALL | BUILD | CHECK | BUILD BIN | ||||||
| ncdfFlow 2.32.0 Mike Jiang
| malbec1 | Linux (Ubuntu 18.04.4 LTS) / x86_64 | [ OK ] | OK | WARNINGS | |||||||
| tokay1 | Windows Server 2012 R2 Standard / x64 | OK | OK | WARNINGS | OK | |||||||
| merida1 | OS X 10.11.6 El Capitan / x86_64 | OK | OK | WARNINGS | OK |
| Package: ncdfFlow |
| Version: 2.32.0 |
| Command: /home/biocbuild/bbs-3.10-bioc/R/bin/R CMD INSTALL ncdfFlow |
| StartedAt: 2020-04-14 18:07:57 -0400 (Tue, 14 Apr 2020) |
| EndedAt: 2020-04-14 18:08:37 -0400 (Tue, 14 Apr 2020) |
| EllapsedTime: 39.3 seconds |
| RetCode: 0 |
| Status: OK |
##############################################################################
##############################################################################
###
### Running command:
###
### /home/biocbuild/bbs-3.10-bioc/R/bin/R CMD INSTALL ncdfFlow
###
##############################################################################
##############################################################################
* installing to library ‘/home/biocbuild/bbs-3.10-bioc/R/library’
* installing *source* package ‘ncdfFlow’ ...
** using staged installation
** libs
g++ -std=gnu++11 -I"/home/biocbuild/bbs-3.10-bioc/R/include" -DNDEBUG -I"/home/biocbuild/bbs-3.10-bioc/R/library/Rcpp/include" -I"/home/biocbuild/bbs-3.10-bioc/R/library/RcppArmadillo/include" -I"/home/biocbuild/bbs-3.10-bioc/R/library/BH/include" -I"/home/biocbuild/bbs-3.10-bioc/R/library/Rhdf5lib/include" -I/usr/local/include -fpic -g -O2 -Wall -c RcppExports.cpp -o RcppExports.o
g++ -std=gnu++11 -I"/home/biocbuild/bbs-3.10-bioc/R/include" -DNDEBUG -I"/home/biocbuild/bbs-3.10-bioc/R/library/Rcpp/include" -I"/home/biocbuild/bbs-3.10-bioc/R/library/RcppArmadillo/include" -I"/home/biocbuild/bbs-3.10-bioc/R/library/BH/include" -I"/home/biocbuild/bbs-3.10-bioc/R/library/Rhdf5lib/include" -I/usr/local/include -fpic -g -O2 -Wall -c bitOps.cpp -o bitOps.o
g++ -std=gnu++11 -I"/home/biocbuild/bbs-3.10-bioc/R/include" -DNDEBUG -I"/home/biocbuild/bbs-3.10-bioc/R/library/Rcpp/include" -I"/home/biocbuild/bbs-3.10-bioc/R/library/RcppArmadillo/include" -I"/home/biocbuild/bbs-3.10-bioc/R/library/BH/include" -I"/home/biocbuild/bbs-3.10-bioc/R/library/Rhdf5lib/include" -I/usr/local/include -fpic -g -O2 -Wall -c hdfFlow.cpp -o hdfFlow.o
hdfFlow.cpp: In function ‘void readSlice_cpp(hid_t, hid_t, hid_t, std::vector<unsigned int>, unsigned int, unsigned int, double*, bool)’:
hdfFlow.cpp:486:14: warning: variable ‘status’ set but not used [-Wunused-but-set-variable]
herr_t status;
^~~~~~
gcc -I"/home/biocbuild/bbs-3.10-bioc/R/include" -DNDEBUG -I"/home/biocbuild/bbs-3.10-bioc/R/library/Rcpp/include" -I"/home/biocbuild/bbs-3.10-bioc/R/library/RcppArmadillo/include" -I"/home/biocbuild/bbs-3.10-bioc/R/library/BH/include" -I"/home/biocbuild/bbs-3.10-bioc/R/library/Rhdf5lib/include" -I/usr/local/include -fpic -g -O2 -Wall -c init.c -o init.o
g++ -std=gnu++11 -I"/home/biocbuild/bbs-3.10-bioc/R/include" -DNDEBUG -I"/home/biocbuild/bbs-3.10-bioc/R/library/Rcpp/include" -I"/home/biocbuild/bbs-3.10-bioc/R/library/RcppArmadillo/include" -I"/home/biocbuild/bbs-3.10-bioc/R/library/BH/include" -I"/home/biocbuild/bbs-3.10-bioc/R/library/Rhdf5lib/include" -I/usr/local/include -fpic -g -O2 -Wall -c readFrame.cpp -o readFrame.o
mkdir -p "/home/biocbuild/bbs-3.10-bioc/R/library/00LOCK-ncdfFlow/00new/ncdfFlow/lib"
ar rs "/home/biocbuild/bbs-3.10-bioc/R/library/00LOCK-ncdfFlow/00new/ncdfFlow/lib/libncdfFlow.a" RcppExports.o bitOps.o hdfFlow.o init.o readFrame.o
ar: creating /home/biocbuild/bbs-3.10-bioc/R/library/00LOCK-ncdfFlow/00new/ncdfFlow/lib/libncdfFlow.a
g++ -std=gnu++11 -shared -L/home/biocbuild/bbs-3.10-bioc/R/lib -L/usr/local/lib -o ncdfFlow.so RcppExports.o bitOps.o hdfFlow.o init.o readFrame.o /home/biocbuild/bbs-3.10-bioc/R/library/Rhdf5lib/lib/libhdf5.a /home/biocbuild/bbs-3.10-bioc/R/library/Rhdf5lib/lib/libsz.a -lz -L/home/biocbuild/bbs-3.10-bioc/R/lib -lR
installing to /home/biocbuild/bbs-3.10-bioc/R/library/00LOCK-ncdfFlow/00new/ncdfFlow/libs
** R
** inst
** byte-compile and prepare package for lazy loading
** help
*** installing help indices
** building package indices
** installing vignettes
** testing if installed package can be loaded from temporary location
** checking absolute paths in shared objects and dynamic libraries
** testing if installed package can be loaded from final location
** testing if installed package keeps a record of temporary installation path
* DONE (ncdfFlow)