| Back to Multiple platform build/check report for BioC 3.10 | 
 | 
This page was generated on 2020-04-15 12:28:07 -0400 (Wed, 15 Apr 2020).
| Package 1117/1823 | Hostname | OS / Arch | INSTALL | BUILD | CHECK | BUILD BIN | ||||||
| multiOmicsViz 1.10.0 Jing Wang 
 | malbec1 | Linux (Ubuntu 18.04.4 LTS) / x86_64 | OK | OK | OK |  | ||||||
| tokay1 | Windows Server 2012 R2 Standard / x64 | OK | OK | OK | [ OK ] |  | ||||||
| merida1 | OS X 10.11.6 El Capitan / x86_64 | OK | OK | OK | OK |  | 
| Package: multiOmicsViz | 
| Version: 1.10.0 | 
| Command: rm -rf multiOmicsViz.buildbin-libdir && mkdir multiOmicsViz.buildbin-libdir && C:\Users\biocbuild\bbs-3.10-bioc\R\bin\R.exe CMD INSTALL --merge-multiarch --build --library=multiOmicsViz.buildbin-libdir multiOmicsViz_1.10.0.tar.gz | 
| StartedAt: 2020-04-15 09:14:34 -0400 (Wed, 15 Apr 2020) | 
| EndedAt: 2020-04-15 09:15:23 -0400 (Wed, 15 Apr 2020) | 
| EllapsedTime: 48.5 seconds | 
| RetCode: 0 | 
| Status: OK | 
| PackageFile: multiOmicsViz_1.10.0.zip | 
| PackageFileSize: 1.533 MiB | 
##############################################################################
##############################################################################
###
### Running command:
###
###   rm -rf multiOmicsViz.buildbin-libdir && mkdir multiOmicsViz.buildbin-libdir && C:\Users\biocbuild\bbs-3.10-bioc\R\bin\R.exe CMD INSTALL --merge-multiarch --build --library=multiOmicsViz.buildbin-libdir multiOmicsViz_1.10.0.tar.gz
###
##############################################################################
##############################################################################
install for i386
* installing *source* package 'multiOmicsViz' ...
** using staged installation
** R
** inst
** byte-compile and prepare package for lazy loading
** help
*** installing help indices
  converting help for package 'multiOmicsViz'
    finding HTML links ... done
    calculateCorForTwoMatrices              html  
    exampleData                             html  
    multiOmicsViz-package                   html  
    multiOmicsViz                           html  
** building package indices
** installing vignettes
** testing if installed package can be loaded from temporary location
** testing if installed package can be loaded from final location
** testing if installed package keeps a record of temporary installation path
install for x64
* installing *source* package 'multiOmicsViz' ...
** testing if installed package can be loaded
* MD5 sums
packaged installation of 'multiOmicsViz' as multiOmicsViz_1.10.0.zip
* DONE (multiOmicsViz)