| Back to Multiple platform build/check report for BioC 3.10 |
|
This page was generated on 2020-04-15 12:20:59 -0400 (Wed, 15 Apr 2020).
| Package 1090/1823 | Hostname | OS / Arch | INSTALL | BUILD | CHECK | BUILD BIN | ||||||
| motifStack 1.30.0 Jianhong Ou
| malbec1 | Linux (Ubuntu 18.04.4 LTS) / x86_64 | OK | OK | OK | |||||||
| tokay1 | Windows Server 2012 R2 Standard / x64 | OK | OK | OK | [ OK ] | |||||||
| merida1 | OS X 10.11.6 El Capitan / x86_64 | OK | OK | OK | OK |
| Package: motifStack |
| Version: 1.30.0 |
| Command: rm -rf motifStack.buildbin-libdir && mkdir motifStack.buildbin-libdir && C:\Users\biocbuild\bbs-3.10-bioc\R\bin\R.exe CMD INSTALL --merge-multiarch --build --library=motifStack.buildbin-libdir motifStack_1.30.0.tar.gz |
| StartedAt: 2020-04-15 09:13:00 -0400 (Wed, 15 Apr 2020) |
| EndedAt: 2020-04-15 09:14:13 -0400 (Wed, 15 Apr 2020) |
| EllapsedTime: 73.1 seconds |
| RetCode: 0 |
| Status: OK |
| PackageFile: motifStack_1.30.0.zip |
| PackageFileSize: 1.331 MiB |
##############################################################################
##############################################################################
###
### Running command:
###
### rm -rf motifStack.buildbin-libdir && mkdir motifStack.buildbin-libdir && C:\Users\biocbuild\bbs-3.10-bioc\R\bin\R.exe CMD INSTALL --merge-multiarch --build --library=motifStack.buildbin-libdir motifStack_1.30.0.tar.gz
###
##############################################################################
##############################################################################
install for i386
* installing *source* package 'motifStack' ...
** using staged installation
** R
** inst
** byte-compile and prepare package for lazy loading
** help
*** installing help indices
converting help for package 'motifStack'
finding HTML links ... done
DNAmotifAlignment html
GeomMotif html
browseMotifs-shiny html
browseMotifs html
colorset html
geom_motif html
getRankedUniqueMotifs html
highlightCol html
importMatrix html
marker-class html
mergeMotifs html
motifCircos html
motifCloud html
motifGrob html
motifPiles html
motifSig-class html
motifSig-methods html
motifSignature html
motifStack-package html
motifStack html
ouNode-class html
pcm-class html
pcm-methods html
pfm-class html
pfm-methods html
pfm2pwm html
plotAffinityLogo html
plotMotifLogo html
plotMotifLogoA html
plotMotifLogoStack html
plotMotifLogoStackWithTree html
plotMotifOverMotif html
plotMotifStackWithPhylog html
plotMotifStackWithRadialPhylog html
plotXaxis html
plotYaxis html
psam-class html
psam-methods html
readPCM html
reorderUPGMAtree html
** building package indices
** installing vignettes
** testing if installed package can be loaded from temporary location
** testing if installed package can be loaded from final location
** testing if installed package keeps a record of temporary installation path
install for x64
* installing *source* package 'motifStack' ...
** testing if installed package can be loaded
* MD5 sums
packaged installation of 'motifStack' as motifStack_1.30.0.zip
* DONE (motifStack)