| Back to Multiple platform build/check report for BioC 3.10 |
|
This page was generated on 2020-04-15 12:07:46 -0400 (Wed, 15 Apr 2020).
| Package 1065/1823 | Hostname | OS / Arch | INSTALL | BUILD | CHECK | BUILD BIN | ||||||
| mitoODE 1.24.0 Gregoire Pau
| malbec1 | Linux (Ubuntu 18.04.4 LTS) / x86_64 | OK | [ OK ] | OK | |||||||
| tokay1 | Windows Server 2012 R2 Standard / x64 | OK | OK | OK | OK | |||||||
| merida1 | OS X 10.11.6 El Capitan / x86_64 | OK | OK | OK | OK |
| Package: mitoODE |
| Version: 1.24.0 |
| Command: /home/biocbuild/bbs-3.10-bioc/R/bin/R CMD build --keep-empty-dirs --no-resave-data mitoODE |
| StartedAt: 2020-04-14 20:34:26 -0400 (Tue, 14 Apr 2020) |
| EndedAt: 2020-04-14 20:35:03 -0400 (Tue, 14 Apr 2020) |
| EllapsedTime: 36.5 seconds |
| RetCode: 0 |
| Status: OK |
| PackageFile: mitoODE_1.24.0.tar.gz |
| PackageFileSize: 455 KiB |
############################################################################## ############################################################################## ### ### Running command: ### ### /home/biocbuild/bbs-3.10-bioc/R/bin/R CMD build --keep-empty-dirs --no-resave-data mitoODE ### ############################################################################## ############################################################################## * checking for file ‘mitoODE/DESCRIPTION’ ... OK * preparing ‘mitoODE’: * checking DESCRIPTION meta-information ... OK * cleaning src * installing the package to build vignettes * creating vignettes ... OK * cleaning src * checking for LF line-endings in source and make files and shell scripts * checking for empty or unneeded directories * building ‘mitoODE_1.24.0.tar.gz’