| Back to Multiple platform build/check report for BioC 3.10 | 
 | 
This page was generated on 2020-04-15 12:33:06 -0400 (Wed, 15 Apr 2020).
| Package 1040/1823 | Hostname | OS / Arch | INSTALL | BUILD | CHECK | BUILD BIN | ||||||
| microbiomeDASim 1.0.0 Justin Williams 
 | malbec1 | Linux (Ubuntu 18.04.4 LTS) / x86_64 | OK | OK | OK |  | ||||||
| tokay1 | Windows Server 2012 R2 Standard / x64 | OK | OK | OK | [ OK ] |  | ||||||
| merida1 | OS X 10.11.6 El Capitan / x86_64 | OK | OK | OK | OK |  | 
| Package: microbiomeDASim | 
| Version: 1.0.0 | 
| Command: rm -rf microbiomeDASim.buildbin-libdir && mkdir microbiomeDASim.buildbin-libdir && C:\Users\biocbuild\bbs-3.10-bioc\R\bin\R.exe CMD INSTALL --merge-multiarch --build --library=microbiomeDASim.buildbin-libdir microbiomeDASim_1.0.0.tar.gz | 
| StartedAt: 2020-04-15 09:10:10 -0400 (Wed, 15 Apr 2020) | 
| EndedAt: 2020-04-15 09:10:49 -0400 (Wed, 15 Apr 2020) | 
| EllapsedTime: 38.3 seconds | 
| RetCode: 0 | 
| Status: OK | 
| PackageFile: microbiomeDASim_1.0.0.zip | 
| PackageFileSize: 1.15 MiB | 
##############################################################################
##############################################################################
###
### Running command:
###
###   rm -rf microbiomeDASim.buildbin-libdir && mkdir microbiomeDASim.buildbin-libdir && C:\Users\biocbuild\bbs-3.10-bioc\R\bin\R.exe CMD INSTALL --merge-multiarch --build --library=microbiomeDASim.buildbin-libdir microbiomeDASim_1.0.0.tar.gz
###
##############################################################################
##############################################################################
install for i386
* installing *source* package 'microbiomeDASim' ...
** using staged installation
** R
** inst
** byte-compile and prepare package for lazy loading
** help
*** installing help indices
  converting help for package 'microbiomeDASim'
    finding HTML links ... done
    IP_form_check                           html  
    final_output_gen                        html  
    form_beta_check                         html  
    gen_microbiome_norm_feature_check       html  
    gen_norm_microbiome                     html  
    ggplot_spaghetti                        html  
    mean_trend                              html  
    mean_trend_beta_vec                     html  
    mean_trend_design_mat                   html  
    mvrnorm_corr_gen                        html  
    mvrnorm_sim                             html  
    sigma_corr_function                     html  
    trunc_bugs                              html  
    vector_scalar_check                     html  
** building package indices
** installing vignettes
** testing if installed package can be loaded from temporary location
** testing if installed package can be loaded from final location
** testing if installed package keeps a record of temporary installation path
install for x64
* installing *source* package 'microbiomeDASim' ...
** testing if installed package can be loaded
* MD5 sums
packaged installation of 'microbiomeDASim' as microbiomeDASim_1.0.0.zip
* DONE (microbiomeDASim)