| Back to Multiple platform build/check report for BioC 3.10 | 
 | 
This page was generated on 2020-04-15 12:33:33 -0400 (Wed, 15 Apr 2020).
| Package 1016/1823 | Hostname | OS / Arch | INSTALL | BUILD | CHECK | BUILD BIN | ||||||
| methrix 1.0.05 Anand Mayakonda 
 | malbec1 | Linux (Ubuntu 18.04.4 LTS) / x86_64 | OK | OK | OK |  | ||||||
| tokay1 | Windows Server 2012 R2 Standard / x64 | [ OK ] | OK | OK | OK |  | ||||||
| merida1 | OS X 10.11.6 El Capitan / x86_64 | OK | OK | OK | OK |  | 
| Package: methrix | 
| Version: 1.0.05 | 
| Command: C:\cygwin\bin\curl.exe -O https://malbec1.bioconductor.org/BBS/3.10/bioc/src/contrib/methrix_1.0.05.tar.gz && rm -rf methrix.buildbin-libdir && mkdir methrix.buildbin-libdir && C:\Users\biocbuild\bbs-3.10-bioc\R\bin\R.exe CMD INSTALL --merge-multiarch --build --library=methrix.buildbin-libdir methrix_1.0.05.tar.gz && C:\Users\biocbuild\bbs-3.10-bioc\R\bin\R.exe CMD INSTALL methrix_1.0.05.zip && rm methrix_1.0.05.tar.gz methrix_1.0.05.zip | 
| StartedAt: 2020-04-14 20:11:41 -0400 (Tue, 14 Apr 2020) | 
| EndedAt: 2020-04-14 20:13:18 -0400 (Tue, 14 Apr 2020) | 
| EllapsedTime: 97.2 seconds | 
| RetCode: 0 | 
| Status: OK | 
##############################################################################
##############################################################################
###
### Running command:
###
###   C:\cygwin\bin\curl.exe -O https://malbec1.bioconductor.org/BBS/3.10/bioc/src/contrib/methrix_1.0.05.tar.gz && rm -rf methrix.buildbin-libdir && mkdir methrix.buildbin-libdir && C:\Users\biocbuild\bbs-3.10-bioc\R\bin\R.exe CMD INSTALL --merge-multiarch --build --library=methrix.buildbin-libdir methrix_1.0.05.tar.gz && C:\Users\biocbuild\bbs-3.10-bioc\R\bin\R.exe CMD INSTALL methrix_1.0.05.zip && rm methrix_1.0.05.tar.gz methrix_1.0.05.zip
###
##############################################################################
##############################################################################
  % Total    % Received % Xferd  Average Speed   Time    Time     Time  Current
                                 Dload  Upload   Total   Spent    Left  Speed
  0     0    0     0    0     0      0      0 --:--:-- --:--:-- --:--:--     0
 44 2470k   44 1088k    0     0  18.6M      0 --:--:-- --:--:-- --:--:-- 19.6M
100 2470k  100 2470k    0     0  19.7M      0 --:--:-- --:--:-- --:--:-- 20.1M
install for i386
* installing *source* package 'methrix' ...
** using staged installation
** R
** data
** inst
** byte-compile and prepare package for lazy loading
** help
*** installing help indices
  converting help for package 'methrix'
    finding HTML links ... done
    combine_methrix                         html  
    convert_HDF5_methrix                    html  
    convert_methrix                         html  
    coverage_filter                         html  
    extract_CPGs                            html  
    get_matrix                              html  
    get_region_summary                      html  
    finding level-2 HTML links ... done
    get_stats                               html  
    load_HDF5_methrix                       html  
    mask_methrix                            html  
    methrix-class                           html  
    methrix2bsseq                           html  
    methrix_data                            html  
    methrix_pca                             html  
    methrix_report                          html  
    order_by_sd                             html  
    plot_coverage                           html  
    plot_density                            html  
    plot_pca                                html  
    plot_stats                              html  
    plot_violin                             html  
    read_bedgraphs                          html  
    region_filter                           html  
    remove_snps                             html  
    remove_uncovered                        html  
    save_HDF5_methrix                       html  
    subset_methrix                          html  
    write_bedgraphs                         html  
** building package indices
** installing vignettes
** testing if installed package can be loaded from temporary location
** testing if installed package can be loaded from final location
** testing if installed package keeps a record of temporary installation path
install for x64
* installing *source* package 'methrix' ...
** testing if installed package can be loaded
* MD5 sums
packaged installation of 'methrix' as methrix_1.0.05.zip
* DONE (methrix)
* installing to library 'C:/Users/biocbuild/bbs-3.10-bioc/R/library'
package 'methrix' successfully unpacked and MD5 sums checked