| Back to Multiple platform build/check report for BioC 3.10 | 
 | 
This page was generated on 2020-04-15 12:19:06 -0400 (Wed, 15 Apr 2020).
| Package 1018/1823 | Hostname | OS / Arch | INSTALL | BUILD | CHECK | BUILD BIN | ||||||
| methVisual 1.38.0 Arie Zackay 
 | malbec1 | Linux (Ubuntu 18.04.4 LTS) / x86_64 | OK | OK | WARNINGS |  | ||||||
| tokay1 | Windows Server 2012 R2 Standard / x64 | [ OK ] | OK | WARNINGS | OK |  | ||||||
| merida1 | OS X 10.11.6 El Capitan / x86_64 | OK | OK | WARNINGS | OK |  | 
| Package: methVisual | 
| Version: 1.38.0 | 
| Command: C:\cygwin\bin\curl.exe -O https://malbec1.bioconductor.org/BBS/3.10/bioc/src/contrib/methVisual_1.38.0.tar.gz && rm -rf methVisual.buildbin-libdir && mkdir methVisual.buildbin-libdir && C:\Users\biocbuild\bbs-3.10-bioc\R\bin\R.exe CMD INSTALL --merge-multiarch --build --library=methVisual.buildbin-libdir methVisual_1.38.0.tar.gz && C:\Users\biocbuild\bbs-3.10-bioc\R\bin\R.exe CMD INSTALL methVisual_1.38.0.zip && rm methVisual_1.38.0.tar.gz methVisual_1.38.0.zip | 
| StartedAt: 2020-04-14 19:16:45 -0400 (Tue, 14 Apr 2020) | 
| EndedAt: 2020-04-14 19:17:26 -0400 (Tue, 14 Apr 2020) | 
| EllapsedTime: 41.2 seconds | 
| RetCode: 0 | 
| Status: OK | 
##############################################################################
##############################################################################
###
### Running command:
###
###   C:\cygwin\bin\curl.exe -O https://malbec1.bioconductor.org/BBS/3.10/bioc/src/contrib/methVisual_1.38.0.tar.gz && rm -rf methVisual.buildbin-libdir && mkdir methVisual.buildbin-libdir && C:\Users\biocbuild\bbs-3.10-bioc\R\bin\R.exe CMD INSTALL --merge-multiarch --build --library=methVisual.buildbin-libdir methVisual_1.38.0.tar.gz && C:\Users\biocbuild\bbs-3.10-bioc\R\bin\R.exe CMD INSTALL methVisual_1.38.0.zip && rm methVisual_1.38.0.tar.gz methVisual_1.38.0.zip
###
##############################################################################
##############################################################################
  % Total    % Received % Xferd  Average Speed   Time    Time     Time  Current
                                 Dload  Upload   Total   Spent    Left  Speed
  0     0    0     0    0     0      0      0 --:--:-- --:--:-- --:--:--     0
100 23669  100 23669    0     0   641k      0 --:--:-- --:--:-- --:--:--  722k
install for i386
* installing *source* package 'methVisual' ...
** using staged installation
** R
** data
** inst
** byte-compile and prepare package for lazy loading
No methods found in package 'IRanges' for request: 'score' when loading 'methVisual'
Note: possible error in 'windows(n, lengthData, ': unused argument (rescale = "fixed") 
** help
*** installing help indices
  converting help for package 'methVisual'
    finding HTML links ... done
    Cooccurrence                            html  
    MethAlignNW                             html  
    MethDataInput                           html  
    MethLollipops                           html  
    MethylQC                                html  
    cgInAlign                               html  
    cgMethFinder                            html  
    coversionGenom                          html  
    findNonAligned                          html  
    heatMapMeth                             html  
    makeDataMethGFF                         html  
    makeLocalExpDir                         html  
    makeTabFilePath                         html  
    matrixSNP                               html  
    methCA                                  html  
    methData                                html  
    methFisherTest                          html  
    methWhitneyUTest                        html  
    plotAbsMethyl                           html  
    plotMatrixSNP                           html  
    readBisulfFASTA                         html  
    selectRefSeq                            html  
** building package indices
** installing vignettes
** testing if installed package can be loaded from temporary location
No methods found in package 'IRanges' for request: 'score' when loading 'methVisual'
** testing if installed package can be loaded from final location
No methods found in package 'IRanges' for request: 'score' when loading 'methVisual'
** testing if installed package keeps a record of temporary installation path
install for x64
* installing *source* package 'methVisual' ...
** testing if installed package can be loaded
No methods found in package 'IRanges' for request: 'score' when loading 'methVisual'
* MD5 sums
packaged installation of 'methVisual' as methVisual_1.38.0.zip
* DONE (methVisual)
* installing to library 'C:/Users/biocbuild/bbs-3.10-bioc/R/library'
package 'methVisual' successfully unpacked and MD5 sums checked