| Back to Multiple platform build/check report for BioC 3.10 |
|
This page was generated on 2020-04-15 12:28:21 -0400 (Wed, 15 Apr 2020).
| Package 1009/1823 | Hostname | OS / Arch | INSTALL | BUILD | CHECK | BUILD BIN | ||||||
| metavizr 1.10.0 Hector Corrada Bravo
| malbec1 | Linux (Ubuntu 18.04.4 LTS) / x86_64 | OK | OK | OK | |||||||
| tokay1 | Windows Server 2012 R2 Standard / x64 | OK | [ OK ] | WARNINGS | OK | |||||||
| merida1 | OS X 10.11.6 El Capitan / x86_64 | OK | OK | OK | OK |
| Package: metavizr |
| Version: 1.10.0 |
| Command: chmod a+r metavizr -R && C:\Users\biocbuild\bbs-3.10-bioc\R\bin\R.exe CMD build --keep-empty-dirs --no-resave-data metavizr |
| StartedAt: 2020-04-14 23:41:03 -0400 (Tue, 14 Apr 2020) |
| EndedAt: 2020-04-14 23:43:07 -0400 (Tue, 14 Apr 2020) |
| EllapsedTime: 124.5 seconds |
| RetCode: 0 |
| Status: OK |
| PackageFile: metavizr_1.10.0.tar.gz |
| PackageFileSize: 1.513 MiB |
############################################################################## ############################################################################## ### ### Running command: ### ### chmod a+r metavizr -R && C:\Users\biocbuild\bbs-3.10-bioc\R\bin\R.exe CMD build --keep-empty-dirs --no-resave-data metavizr ### ############################################################################## ############################################################################## * checking for file 'metavizr/DESCRIPTION' ... OK * preparing 'metavizr': * checking DESCRIPTION meta-information ... OK * installing the package to build vignettes * creating vignettes ... OK * checking for LF line-endings in source and make files and shell scripts * checking for empty or unneeded directories * building 'metavizr_1.10.0.tar.gz'