| Back to Multiple platform build/check report for BioC 3.10 |
|
This page was generated on 2020-04-15 12:40:27 -0400 (Wed, 15 Apr 2020).
| Package 1000/1823 | Hostname | OS / Arch | INSTALL | BUILD | CHECK | BUILD BIN | ||||||
| metagene 2.18.0 Charles Joly Beauparlant
| malbec1 | Linux (Ubuntu 18.04.4 LTS) / x86_64 | OK | OK | OK | |||||||
| tokay1 | Windows Server 2012 R2 Standard / x64 | OK | OK | OK | OK | |||||||
| merida1 | OS X 10.11.6 El Capitan / x86_64 | OK | OK | OK | [ OK ] |
| Package: metagene |
| Version: 2.18.0 |
| Command: rm -rf metagene.buildbin-libdir && mkdir metagene.buildbin-libdir && /Users/biocbuild/BBS/utils/build-universal.sh metagene_2.18.0.tar.gz /Library/Frameworks/R.framework/Versions/Current/Resources/bin/R metagene.buildbin-libdir |
| StartedAt: 2020-04-15 08:00:08 -0400 (Wed, 15 Apr 2020) |
| EndedAt: 2020-04-15 08:01:03 -0400 (Wed, 15 Apr 2020) |
| EllapsedTime: 54.8 seconds |
| RetCode: 0 |
| Status: OK |
| PackageFile: metagene_2.18.0.tgz |
| PackageFileSize: 7.457 MiB |
############################################################################## ############################################################################## ### ### Running command: ### ### rm -rf metagene.buildbin-libdir && mkdir metagene.buildbin-libdir && /Users/biocbuild/BBS/utils/build-universal.sh metagene_2.18.0.tar.gz /Library/Frameworks/R.framework/Versions/Current/Resources/bin/R metagene.buildbin-libdir ### ############################################################################## ############################################################################## >>>>>>> >>>>>>> INSTALLATION WITH 'R CMD INSTALL --preclean --no-multiarch --library=metagene.buildbin-libdir metagene_2.18.0.tar.gz' >>>>>>> * installing *source* package ‘metagene’ ... ** using staged installation ** R ** data *** moving datasets to lazyload DB ** inst ** byte-compile and prepare package for lazy loading ** help *** installing help indices ** building package indices ** installing vignettes ** testing if installed package can be loaded from temporary location ** testing if installed package can be loaded from final location ** testing if installed package keeps a record of temporary installation path * DONE (metagene)