| Back to Multiple platform build/check report for BioC 3.10 | 
 | 
This page was generated on 2020-04-15 12:23:23 -0400 (Wed, 15 Apr 2020).
| Package 996/1823 | Hostname | OS / Arch | INSTALL | BUILD | CHECK | BUILD BIN | ||||||
| metabomxtr 1.20.0 Michael Nodzenski 
 | malbec1 | Linux (Ubuntu 18.04.4 LTS) / x86_64 | OK | OK | OK |  | ||||||
| tokay1 | Windows Server 2012 R2 Standard / x64 | [ OK ] | OK | OK | OK |  | ||||||
| merida1 | OS X 10.11.6 El Capitan / x86_64 | OK | OK | OK | OK |  | 
| Package: metabomxtr | 
| Version: 1.20.0 | 
| Command: C:\cygwin\bin\curl.exe -O https://malbec1.bioconductor.org/BBS/3.10/bioc/src/contrib/metabomxtr_1.20.0.tar.gz && rm -rf metabomxtr.buildbin-libdir && mkdir metabomxtr.buildbin-libdir && C:\Users\biocbuild\bbs-3.10-bioc\R\bin\R.exe CMD INSTALL --merge-multiarch --build --library=metabomxtr.buildbin-libdir metabomxtr_1.20.0.tar.gz && C:\Users\biocbuild\bbs-3.10-bioc\R\bin\R.exe CMD INSTALL metabomxtr_1.20.0.zip && rm metabomxtr_1.20.0.tar.gz metabomxtr_1.20.0.zip | 
| StartedAt: 2020-04-14 19:07:19 -0400 (Tue, 14 Apr 2020) | 
| EndedAt: 2020-04-14 19:08:06 -0400 (Tue, 14 Apr 2020) | 
| EllapsedTime: 46.5 seconds | 
| RetCode: 0 | 
| Status: OK | 
##############################################################################
##############################################################################
###
### Running command:
###
###   C:\cygwin\bin\curl.exe -O https://malbec1.bioconductor.org/BBS/3.10/bioc/src/contrib/metabomxtr_1.20.0.tar.gz && rm -rf metabomxtr.buildbin-libdir && mkdir metabomxtr.buildbin-libdir && C:\Users\biocbuild\bbs-3.10-bioc\R\bin\R.exe CMD INSTALL --merge-multiarch --build --library=metabomxtr.buildbin-libdir metabomxtr_1.20.0.tar.gz && C:\Users\biocbuild\bbs-3.10-bioc\R\bin\R.exe CMD INSTALL metabomxtr_1.20.0.zip && rm metabomxtr_1.20.0.tar.gz metabomxtr_1.20.0.zip
###
##############################################################################
##############################################################################
  % Total    % Received % Xferd  Average Speed   Time    Time     Time  Current
                                 Dload  Upload   Total   Spent    Left  Speed
  0     0    0     0    0     0      0      0 --:--:-- --:--:-- --:--:--     0
100 58345  100 58345    0     0   694k      0 --:--:-- --:--:-- --:--:--  730k
install for i386
* installing *source* package 'metabomxtr' ...
** using staged installation
** R
** data
** byte-compile and prepare package for lazy loading
** help
*** installing help indices
  converting help for package 'metabomxtr'
    finding HTML links ... done
    addBatchMeans                           html  
    addOutlierInfo                          html  
    allMissingLevels                        html  
    anyMissingLevels                        html  
    euMetabCData                            html  
    euMetabData                             html  
    idMissingLevels                         html  
    metabdata                               html  
    metabomxtr-package                      html  
    metabplot                               html  
    mixnorm                                 html  
    mxtrmod                                 html  
    mxtrmodLL                               html  
    mxtrmodLRT                              html  
    mxtrmodstart                            html  
    removeAllMissingCatVar                  html  
    removeMissingLevels                     html  
    runMxtrmod                              html  
    xdesign-methods                         html  
    yvals-methods                           html  
    zdesign-methods                         html  
** building package indices
** installing vignettes
** testing if installed package can be loaded from temporary location
** testing if installed package can be loaded from final location
** testing if installed package keeps a record of temporary installation path
install for x64
* installing *source* package 'metabomxtr' ...
** testing if installed package can be loaded
* MD5 sums
packaged installation of 'metabomxtr' as metabomxtr_1.20.0.zip
* DONE (metabomxtr)
* installing to library 'C:/Users/biocbuild/bbs-3.10-bioc/R/library'
package 'metabomxtr' successfully unpacked and MD5 sums checked