| Back to Multiple platform build/check report for BioC 3.10 | 
 | 
This page was generated on 2020-04-15 12:47:18 -0400 (Wed, 15 Apr 2020).
| Package 978/1823 | Hostname | OS / Arch | INSTALL | BUILD | CHECK | BUILD BIN | ||||||
| mdp 1.6.0 Helder Nakaya 
 | malbec1 | Linux (Ubuntu 18.04.4 LTS) / x86_64 | OK | OK | OK |  | ||||||
| tokay1 | Windows Server 2012 R2 Standard / x64 | OK | OK | OK | OK |  | ||||||
| merida1 | OS X 10.11.6 El Capitan / x86_64 | OK | OK | OK | [ OK ] |  | 
| Package: mdp | 
| Version: 1.6.0 | 
| Command: rm -rf mdp.buildbin-libdir && mkdir mdp.buildbin-libdir && /Users/biocbuild/BBS/utils/build-universal.sh mdp_1.6.0.tar.gz /Library/Frameworks/R.framework/Versions/Current/Resources/bin/R mdp.buildbin-libdir | 
| StartedAt: 2020-04-15 07:58:28 -0400 (Wed, 15 Apr 2020) | 
| EndedAt: 2020-04-15 07:59:19 -0400 (Wed, 15 Apr 2020) | 
| EllapsedTime: 50.8 seconds | 
| RetCode: 0 | 
| Status: OK | 
| PackageFile: mdp_1.6.0.tgz | 
| PackageFileSize: 3.846 MiB | 
############################################################################## ############################################################################## ### ### Running command: ### ### rm -rf mdp.buildbin-libdir && mkdir mdp.buildbin-libdir && /Users/biocbuild/BBS/utils/build-universal.sh mdp_1.6.0.tar.gz /Library/Frameworks/R.framework/Versions/Current/Resources/bin/R mdp.buildbin-libdir ### ############################################################################## ############################################################################## >>>>>>> >>>>>>> INSTALLATION WITH 'R CMD INSTALL --preclean --no-multiarch --library=mdp.buildbin-libdir mdp_1.6.0.tar.gz' >>>>>>> * installing *source* package ‘mdp’ ... ** using staged installation ** R ** data *** moving datasets to lazyload DB ** inst ** byte-compile and prepare package for lazy loading ** help *** installing help indices ** building package indices ** installing vignettes ** testing if installed package can be loaded from temporary location ** testing if installed package can be loaded from final location ** testing if installed package keeps a record of temporary installation path * DONE (mdp)