| Back to Multiple platform build/check report for BioC 3.10 | 
 | 
This page was generated on 2020-04-15 12:21:22 -0400 (Wed, 15 Apr 2020).
| Package 925/1823 | Hostname | OS / Arch | INSTALL | BUILD | CHECK | BUILD BIN | ||||||
| lpNet 2.18.0 Lars Kaderali 
 | malbec1 | Linux (Ubuntu 18.04.4 LTS) / x86_64 | OK | OK | OK |  | ||||||
| tokay1 | Windows Server 2012 R2 Standard / x64 | OK | [ OK ] | OK | OK |  | ||||||
| merida1 | OS X 10.11.6 El Capitan / x86_64 | OK | OK | OK | OK |  | 
| Package: lpNet | 
| Version: 2.18.0 | 
| Command: chmod a+r lpNet -R && C:\Users\biocbuild\bbs-3.10-bioc\R\bin\R.exe CMD build --keep-empty-dirs --no-resave-data lpNet | 
| StartedAt: 2020-04-14 21:39:35 -0400 (Tue, 14 Apr 2020) | 
| EndedAt: 2020-04-14 21:40:09 -0400 (Tue, 14 Apr 2020) | 
| EllapsedTime: 34.5 seconds | 
| RetCode: 0 | 
| Status: OK | 
| PackageFile: lpNet_2.18.0.tar.gz | 
| PackageFileSize: 206 KiB | 
##############################################################################
##############################################################################
###
### Running command:
###
###   chmod a+r lpNet -R && C:\Users\biocbuild\bbs-3.10-bioc\R\bin\R.exe CMD build --keep-empty-dirs --no-resave-data lpNet
###
##############################################################################
##############################################################################
* checking for file 'lpNet/DESCRIPTION' ... OK
* preparing 'lpNet':
* checking DESCRIPTION meta-information ... OK
* installing the package to build vignettes
* creating vignettes ... OK
Warning: 'inst/doc' files
    'vignette_lpNet.Rnw', 'vignette_lpNet.pdf', 'vignette_lpNet.R'
  ignored as vignettes have been rebuilt.
  Run R CMD build with --no-build-vignettes to prevent rebuilding.
* checking for LF line-endings in source and make files and shell scripts
* checking for empty or unneeded directories
* building 'lpNet_2.18.0.tar.gz'