| Back to Multiple platform build/check report for BioC 3.10 |
|
This page was generated on 2020-04-15 12:21:54 -0400 (Wed, 15 Apr 2020).
| Package 850/1823 | Hostname | OS / Arch | INSTALL | BUILD | CHECK | BUILD BIN | ||||||
| intansv 1.26.1 Wen Yao
| malbec1 | Linux (Ubuntu 18.04.4 LTS) / x86_64 | OK | OK | OK | |||||||
| tokay1 | Windows Server 2012 R2 Standard / x64 | OK | OK | OK | [ OK ] | |||||||
| merida1 | OS X 10.11.6 El Capitan / x86_64 | OK | OK | OK | OK |
| Package: intansv |
| Version: 1.26.1 |
| Command: rm -rf intansv.buildbin-libdir && mkdir intansv.buildbin-libdir && C:\Users\biocbuild\bbs-3.10-bioc\R\bin\R.exe CMD INSTALL --merge-multiarch --build --library=intansv.buildbin-libdir intansv_1.26.1.tar.gz |
| StartedAt: 2020-04-15 08:59:23 -0400 (Wed, 15 Apr 2020) |
| EndedAt: 2020-04-15 09:00:46 -0400 (Wed, 15 Apr 2020) |
| EllapsedTime: 82.9 seconds |
| RetCode: 0 |
| Status: OK |
| PackageFile: intansv_1.26.1.zip |
| PackageFileSize: 774.3 KiB |
##############################################################################
##############################################################################
###
### Running command:
###
### rm -rf intansv.buildbin-libdir && mkdir intansv.buildbin-libdir && C:\Users\biocbuild\bbs-3.10-bioc\R\bin\R.exe CMD INSTALL --merge-multiarch --build --library=intansv.buildbin-libdir intansv_1.26.1.tar.gz
###
##############################################################################
##############################################################################
install for i386
* installing *source* package 'intansv' ...
** using staged installation
** R
** inst
** byte-compile and prepare package for lazy loading
** help
*** installing help indices
converting help for package 'intansv'
finding HTML links ... done
methodsMerge html
plotChromosome html
plotRegion html
readBreakDancer html
readCnvnator html
readDelly html
readLumpy html
readPindel html
readSoftSearch html
readSvseq html
svAnnotation html
** building package indices
** installing vignettes
** testing if installed package can be loaded from temporary location
** testing if installed package can be loaded from final location
** testing if installed package keeps a record of temporary installation path
install for x64
* installing *source* package 'intansv' ...
** testing if installed package can be loaded
* MD5 sums
packaged installation of 'intansv' as intansv_1.26.1.zip
* DONE (intansv)