| Back to Multiple platform build/check report for BioC 3.10 | 
 | 
This page was generated on 2020-04-15 12:47:20 -0400 (Wed, 15 Apr 2020).
| Package 831/1823 | Hostname | OS / Arch | INSTALL | BUILD | CHECK | BUILD BIN | ||||||
| igvR 1.6.1 Paul Shannon 
 | malbec1 | Linux (Ubuntu 18.04.4 LTS) / x86_64 | OK | OK | WARNINGS |  | ||||||
| tokay1 | Windows Server 2012 R2 Standard / x64 | OK | OK | WARNINGS | OK |  | ||||||
| merida1 | OS X 10.11.6 El Capitan / x86_64 | OK | OK | WARNINGS | [ OK ] |  | 
| Package: igvR | 
| Version: 1.6.1 | 
| Command: rm -rf igvR.buildbin-libdir && mkdir igvR.buildbin-libdir && /Users/biocbuild/BBS/utils/build-universal.sh igvR_1.6.1.tar.gz /Library/Frameworks/R.framework/Versions/Current/Resources/bin/R igvR.buildbin-libdir | 
| StartedAt: 2020-04-15 07:46:58 -0400 (Wed, 15 Apr 2020) | 
| EndedAt: 2020-04-15 07:47:57 -0400 (Wed, 15 Apr 2020) | 
| EllapsedTime: 58.8 seconds | 
| RetCode: 0 | 
| Status: OK | 
| PackageFile: igvR_1.6.1.tgz | 
| PackageFileSize: 2.861 MiB | 
##############################################################################
##############################################################################
###
### Running command:
###
###   rm -rf igvR.buildbin-libdir && mkdir igvR.buildbin-libdir && /Users/biocbuild/BBS/utils/build-universal.sh igvR_1.6.1.tar.gz /Library/Frameworks/R.framework/Versions/Current/Resources/bin/R igvR.buildbin-libdir
###
##############################################################################
##############################################################################
>>>>>>> 
>>>>>>> INSTALLATION WITH 'R CMD INSTALL --preclean --no-multiarch --library=igvR.buildbin-libdir igvR_1.6.1.tar.gz'
>>>>>>> 
* installing *source* package ‘igvR’ ...
** using staged installation
** R
** inst
** byte-compile and prepare package for lazy loading
See system.file("LICENSE", package="MotifDb") for use restrictions.
** help
*** installing help indices
** building package indices
** installing vignettes
** testing if installed package can be loaded from temporary location
See system.file("LICENSE", package="MotifDb") for use restrictions.
** testing if installed package can be loaded from final location
See system.file("LICENSE", package="MotifDb") for use restrictions.
** testing if installed package keeps a record of temporary installation path
* DONE (igvR)