| Back to Multiple platform build/check report for BioC 3.10 | 
 | 
This page was generated on 2020-04-15 12:16:10 -0400 (Wed, 15 Apr 2020).
| Package 828/1823 | Hostname | OS / Arch | INSTALL | BUILD | CHECK | BUILD BIN | ||||||
| idr2d 1.0.4 Konstantin Krismer 
 | malbec1 | Linux (Ubuntu 18.04.4 LTS) / x86_64 | OK | [ OK ] | OK |  | ||||||
| tokay1 | Windows Server 2012 R2 Standard / x64 | OK | OK | OK | OK |  | ||||||
| merida1 | OS X 10.11.6 El Capitan / x86_64 | OK | OK | OK | OK |  | 
| Package: idr2d | 
| Version: 1.0.4 | 
| Command: /home/biocbuild/bbs-3.10-bioc/R/bin/R CMD build --keep-empty-dirs --no-resave-data idr2d | 
| StartedAt: 2020-04-14 23:48:59 -0400 (Tue, 14 Apr 2020) | 
| EndedAt: 2020-04-14 23:49:31 -0400 (Tue, 14 Apr 2020) | 
| EllapsedTime: 31.7 seconds | 
| RetCode: 0 | 
| Status: OK | 
| PackageFile: idr2d_1.0.4.tar.gz | 
| PackageFileSize: 1.453 MiB | 
############################################################################## ############################################################################## ### ### Running command: ### ### /home/biocbuild/bbs-3.10-bioc/R/bin/R CMD build --keep-empty-dirs --no-resave-data idr2d ### ############################################################################## ############################################################################## * checking for file ‘idr2d/DESCRIPTION’ ... OK * preparing ‘idr2d’: * checking DESCRIPTION meta-information ... OK * installing the package to build vignettes * creating vignettes ... OK * checking for LF line-endings in source and make files and shell scripts * checking for empty or unneeded directories * looking to see if a ‘data/datalist’ file should be added * building ‘idr2d_1.0.4.tar.gz’