| Back to Multiple platform build/check report for BioC 3.10 | 
 | 
This page was generated on 2020-04-15 12:20:49 -0400 (Wed, 15 Apr 2020).
| Package 859/1823 | Hostname | OS / Arch | INSTALL | BUILD | CHECK | BUILD BIN | ||||||
| iPAC 1.30.0 Gregory Ryslik 
 | malbec1 | Linux (Ubuntu 18.04.4 LTS) / x86_64 | OK | OK | OK |  | ||||||
| tokay1 | Windows Server 2012 R2 Standard / x64 | OK | OK | OK | [ OK ] |  | ||||||
| merida1 | OS X 10.11.6 El Capitan / x86_64 | OK | OK | OK | OK |  | 
| Package: iPAC | 
| Version: 1.30.0 | 
| Command: rm -rf iPAC.buildbin-libdir && mkdir iPAC.buildbin-libdir && C:\Users\biocbuild\bbs-3.10-bioc\R\bin\R.exe CMD INSTALL --merge-multiarch --build --library=iPAC.buildbin-libdir iPAC_1.30.0.tar.gz | 
| StartedAt: 2020-04-15 08:59:54 -0400 (Wed, 15 Apr 2020) | 
| EndedAt: 2020-04-15 09:00:25 -0400 (Wed, 15 Apr 2020) | 
| EllapsedTime: 31.5 seconds | 
| RetCode: 0 | 
| Status: OK | 
| PackageFile: iPAC_1.30.0.zip | 
| PackageFileSize: 469.8 KiB | 
##############################################################################
##############################################################################
###
### Running command:
###
###   rm -rf iPAC.buildbin-libdir && mkdir iPAC.buildbin-libdir && C:\Users\biocbuild\bbs-3.10-bioc\R\bin\R.exe CMD INSTALL --merge-multiarch --build --library=iPAC.buildbin-libdir iPAC_1.30.0.tar.gz
###
##############################################################################
##############################################################################
install for i386
* installing *source* package 'iPAC' ...
** using staged installation
** R
** data
** inst
** byte-compile and prepare package for lazy loading
** help
*** installing help indices
  converting help for package 'iPAC'
    finding HTML links ... done
    ClusterFind                             html  
    KRAS.Mutations                          html  
    PIK3CA.Mutations                        html  
    Plot.Protein.Linear                     html  
    get.AASeq                               html  
    get.AlignedPositions                    html  
    get.Positions                           html  
    get.Remapped.Order                      html  
    get.SingleLetterCode                    html  
    iPAC-package                            html  
    nmc                                     html  
** building package indices
** installing vignettes
** testing if installed package can be loaded from temporary location
** testing if installed package can be loaded from final location
** testing if installed package keeps a record of temporary installation path
install for x64
* installing *source* package 'iPAC' ...
** testing if installed package can be loaded
* MD5 sums
packaged installation of 'iPAC' as iPAC_1.30.0.zip
* DONE (iPAC)