| Back to Multiple platform build/check report for BioC 3.10 | 
 | 
This page was generated on 2020-04-15 12:25:26 -0400 (Wed, 15 Apr 2020).
| Package 829/1823 | Hostname | OS / Arch | INSTALL | BUILD | CHECK | BUILD BIN | ||||||
| iGC 1.16.0 Liang-Bo Wang 
 | malbec1 | Linux (Ubuntu 18.04.4 LTS) / x86_64 | OK | OK | OK |  | ||||||
| tokay1 | Windows Server 2012 R2 Standard / x64 | OK | OK | OK | [ OK ] |  | ||||||
| merida1 | OS X 10.11.6 El Capitan / x86_64 | OK | OK | OK | OK |  | 
| Package: iGC | 
| Version: 1.16.0 | 
| Command: rm -rf iGC.buildbin-libdir && mkdir iGC.buildbin-libdir && C:\Users\biocbuild\bbs-3.10-bioc\R\bin\R.exe CMD INSTALL --merge-multiarch --build --library=iGC.buildbin-libdir iGC_1.16.0.tar.gz | 
| StartedAt: 2020-04-15 08:58:12 -0400 (Wed, 15 Apr 2020) | 
| EndedAt: 2020-04-15 08:58:56 -0400 (Wed, 15 Apr 2020) | 
| EllapsedTime: 44.7 seconds | 
| RetCode: 0 | 
| Status: OK | 
| PackageFile: iGC_1.16.0.zip | 
| PackageFileSize: 3.155 MiB | 
##############################################################################
##############################################################################
###
### Running command:
###
###   rm -rf iGC.buildbin-libdir && mkdir iGC.buildbin-libdir && C:\Users\biocbuild\bbs-3.10-bioc\R\bin\R.exe CMD INSTALL --merge-multiarch --build --library=iGC.buildbin-libdir iGC_1.16.0.tar.gz
###
##############################################################################
##############################################################################
install for i386
* installing *source* package 'iGC' ...
** using staged installation
** R
** data
*** moving datasets to lazyload DB
** inst
** byte-compile and prepare package for lazy loading
** help
*** installing help indices
  converting help for package 'iGC'
    finding HTML links ... done
    create_gene_cna                         html  
    create_gene_exp                         html  
    create_sample_desc                      html  
    direct_gene_cna                         html  
    find_cna_driven_gene                    html  
    hg19DBNM                                html  
    iGC                                     html  
** building package indices
** installing vignettes
** testing if installed package can be loaded from temporary location
** testing if installed package can be loaded from final location
** testing if installed package keeps a record of temporary installation path
install for x64
* installing *source* package 'iGC' ...
** testing if installed package can be loaded
* MD5 sums
packaged installation of 'iGC' as iGC_1.16.0.zip
* DONE (iGC)