Back to Multiple platform build/check report for BioC 3.10 |
|
This page was generated on 2020-04-15 12:47:18 -0400 (Wed, 15 Apr 2020).
Package 792/1823 | Hostname | OS / Arch | INSTALL | BUILD | CHECK | BUILD BIN | ||||||
hipathia 2.2.1 Marta R. Hidalgo
| malbec1 | Linux (Ubuntu 18.04.4 LTS) / x86_64 | OK | OK | OK | ![]() | ||||||
tokay1 | Windows Server 2012 R2 Standard / x64 | OK | OK | ERROR | OK | |||||||
merida1 | OS X 10.11.6 El Capitan / x86_64 | OK | OK | [ OK ] | OK | ![]() |
Package: hipathia |
Version: 2.2.1 |
Command: /Library/Frameworks/R.framework/Versions/Current/Resources/bin/R CMD check --install=check:hipathia.install-out.txt --library=/Library/Frameworks/R.framework/Versions/Current/Resources/library --no-vignettes --timings hipathia_2.2.1.tar.gz |
StartedAt: 2020-04-15 03:02:11 -0400 (Wed, 15 Apr 2020) |
EndedAt: 2020-04-15 03:19:53 -0400 (Wed, 15 Apr 2020) |
EllapsedTime: 1061.5 seconds |
RetCode: 0 |
Status: OK |
CheckDir: hipathia.Rcheck |
Warnings: 0 |
############################################################################## ############################################################################## ### ### Running command: ### ### /Library/Frameworks/R.framework/Versions/Current/Resources/bin/R CMD check --install=check:hipathia.install-out.txt --library=/Library/Frameworks/R.framework/Versions/Current/Resources/library --no-vignettes --timings hipathia_2.2.1.tar.gz ### ############################################################################## ############################################################################## * using log directory ‘/Users/biocbuild/bbs-3.10-bioc/meat/hipathia.Rcheck’ * using R version 3.6.3 (2020-02-29) * using platform: x86_64-apple-darwin15.6.0 (64-bit) * using session charset: UTF-8 * using option ‘--no-vignettes’ * checking for file ‘hipathia/DESCRIPTION’ ... OK * this is package ‘hipathia’ version ‘2.2.1’ * package encoding: UTF-8 * checking package namespace information ... OK * checking package dependencies ... OK * checking if this is a source package ... OK * checking if there is a namespace ... OK * checking for hidden files and directories ... OK * checking for portable file names ... OK * checking for sufficient/correct file permissions ... OK * checking whether package ‘hipathia’ can be installed ... OK * checking installed package size ... NOTE installed size is 9.6Mb sub-directories of 1Mb or more: data 4.9Mb extdata 4.3Mb * checking package directory ... OK * checking ‘build’ directory ... OK * checking DESCRIPTION meta-information ... OK * checking top-level files ... OK * checking for left-over files ... OK * checking index information ... OK * checking package subdirectories ... OK * checking R files for non-ASCII characters ... OK * checking R files for syntax errors ... OK * checking whether the package can be loaded ... OK * checking whether the package can be loaded with stated dependencies ... OK * checking whether the package can be unloaded cleanly ... OK * checking whether the namespace can be loaded with stated dependencies ... OK * checking whether the namespace can be unloaded cleanly ... OK * checking dependencies in R code ... OK * checking S3 generic/method consistency ... OK * checking replacement functions ... OK * checking foreign function calls ... OK * checking R code for possible problems ... OK * checking Rd files ... OK * checking Rd metadata ... OK * checking Rd cross-references ... OK * checking for missing documentation entries ... OK * checking for code/documentation mismatches ... OK * checking Rd \usage sections ... OK * checking Rd contents ... OK * checking for unstated dependencies in examples ... OK * checking contents of ‘data’ directory ... OK * checking data for non-ASCII characters ... OK * checking data for ASCII and uncompressed saves ... OK * checking sizes of PDF files under ‘inst/doc’ ... OK * checking files in ‘vignettes’ ... OK * checking examples ... OK Examples with CPU or elapsed time > 5s user system elapsed quantify_terms 42.806 1.017 45.228 create_report 36.969 1.837 43.316 get_pathways_annotations 31.692 0.715 33.655 hipathia 27.163 0.487 28.093 get_path_names 26.780 0.374 29.048 visualize_report 26.617 0.396 27.475 save_results 26.381 0.339 27.130 pathway_comparison_plot 26.002 0.359 26.835 node_color_per_de 24.750 0.383 25.507 load_pathways 24.693 0.400 25.795 node_color 24.115 0.306 24.853 get_node_names 23.582 0.315 24.138 normalize_paths 22.525 0.289 23.161 get_pathways_summary 21.947 0.263 22.608 get_pathways_list 20.895 0.297 21.415 normalize_data 14.810 0.361 15.691 translate_data 13.948 0.404 14.770 get_go_names 6.083 0.434 6.951 * checking for unstated dependencies in ‘tests’ ... OK * checking tests ... Running ‘testthat.R’ OK * checking for unstated dependencies in vignettes ... OK * checking package vignettes in ‘inst/doc’ ... OK * checking running R code from vignettes ... SKIPPED * checking re-building of vignette outputs ... SKIPPED * checking PDF version of manual ... OK * DONE Status: 1 NOTE See ‘/Users/biocbuild/bbs-3.10-bioc/meat/hipathia.Rcheck/00check.log’ for details.
hipathia.Rcheck/00install.out
############################################################################## ############################################################################## ### ### Running command: ### ### /Library/Frameworks/R.framework/Versions/Current/Resources/bin/R CMD INSTALL hipathia ### ############################################################################## ############################################################################## * installing to library ‘/Library/Frameworks/R.framework/Versions/3.6/Resources/library’ * installing *source* package ‘hipathia’ ... ** using staged installation ** R ** data *** moving datasets to lazyload DB ** inst ** byte-compile and prepare package for lazy loading ** help *** installing help indices ** building package indices ** installing vignettes ** testing if installed package can be loaded from temporary location ** testing if installed package can be loaded from final location ** testing if installed package keeps a record of temporary installation path * DONE (hipathia)
hipathia.Rcheck/tests/testthat.Rout
R version 3.6.3 (2020-02-29) -- "Holding the Windsock" Copyright (C) 2020 The R Foundation for Statistical Computing Platform: x86_64-apple-darwin15.6.0 (64-bit) R is free software and comes with ABSOLUTELY NO WARRANTY. You are welcome to redistribute it under certain conditions. Type 'license()' or 'licence()' for distribution details. R is a collaborative project with many contributors. Type 'contributors()' for more information and 'citation()' on how to cite R or R packages in publications. Type 'demo()' for some demos, 'help()' for on-line help, or 'help.start()' for an HTML browser interface to help. Type 'q()' to quit R. > library(testthat) > library(hipathia) Loading required package: igraph Attaching package: 'igraph' The following object is masked from 'package:testthat': compare The following objects are masked from 'package:stats': decompose, spectrum The following object is masked from 'package:base': union Loading required package: AnnotationHub Loading required package: BiocGenerics Loading required package: parallel Attaching package: 'BiocGenerics' The following objects are masked from 'package:parallel': clusterApply, clusterApplyLB, clusterCall, clusterEvalQ, clusterExport, clusterMap, parApply, parCapply, parLapply, parLapplyLB, parRapply, parSapply, parSapplyLB The following objects are masked from 'package:igraph': normalize, path, union The following objects are masked from 'package:stats': IQR, mad, sd, var, xtabs The following objects are masked from 'package:base': Filter, Find, Map, Position, Reduce, anyDuplicated, append, as.data.frame, basename, cbind, colnames, dirname, do.call, duplicated, eval, evalq, get, grep, grepl, intersect, is.unsorted, lapply, mapply, match, mget, order, paste, pmax, pmax.int, pmin, pmin.int, rank, rbind, rownames, sapply, setdiff, sort, table, tapply, union, unique, unsplit, which, which.max, which.min Loading required package: BiocFileCache Loading required package: dbplyr Loading required package: MultiAssayExperiment Loading required package: SummarizedExperiment Loading required package: GenomicRanges Loading required package: stats4 Loading required package: S4Vectors Attaching package: 'S4Vectors' The following object is masked from 'package:base': expand.grid Loading required package: IRanges Loading required package: GenomeInfoDb Loading required package: Biobase Welcome to Bioconductor Vignettes contain introductory material; view with 'browseVignettes()'. To cite Bioconductor, see 'citation("Biobase")', and for packages 'citation("pkgname")'. Attaching package: 'Biobase' The following object is masked from 'package:AnnotationHub': cache Loading required package: DelayedArray Loading required package: matrixStats Attaching package: 'matrixStats' The following objects are masked from 'package:Biobase': anyMissing, rowMedians Loading required package: BiocParallel Attaching package: 'DelayedArray' The following objects are masked from 'package:matrixStats': colMaxs, colMins, colRanges, rowMaxs, rowMins, rowRanges The following object is masked from 'package:igraph': simplify The following objects are masked from 'package:base': aperm, apply, rowsum > > test_check("hipathia") HiPathia processing... hsa03320 - PPAR signaling pathway hsa04012 - ErbB signaling pathway HiPathia processing... hsa03320 - PPAR signaling pathway hsa04012 - ErbB signaling pathway translated ids = 3184 (1) untranslated ids = 3 (0.00094) multihit ids = 0 (0) ══ testthat results ═══════════════════════════════════════════════════════════ [ OK: 119 | SKIPPED: 0 | WARNINGS: 0 | FAILED: 0 ] > > proc.time() user system elapsed 336.527 8.458 356.817
hipathia.Rcheck/hipathia-Ex.timings
name | user | system | elapsed | |
create_report | 36.969 | 1.837 | 43.316 | |
do_pca | 0.084 | 0.008 | 0.093 | |
do_wilcoxon | 0.144 | 0.021 | 0.167 | |
get_go_names | 6.083 | 0.434 | 6.951 | |
get_node_names | 23.582 | 0.315 | 24.138 | |
get_nodes_data | 0.008 | 0.002 | 0.010 | |
get_path_names | 26.780 | 0.374 | 29.048 | |
get_paths_data | 0.009 | 0.002 | 0.012 | |
get_pathways_annotations | 31.692 | 0.715 | 33.655 | |
get_pathways_list | 20.895 | 0.297 | 21.415 | |
get_pathways_summary | 21.947 | 0.263 | 22.608 | |
heatmap_plot | 0.349 | 0.009 | 0.360 | |
hhead | 0.001 | 0.001 | 0.002 | |
hipathia | 27.163 | 0.487 | 28.093 | |
load_pathways | 24.693 | 0.400 | 25.795 | |
multiple_pca_plot | 0.081 | 0.003 | 0.086 | |
node_color | 24.115 | 0.306 | 24.853 | |
node_color_per_de | 24.750 | 0.383 | 25.507 | |
normalize_data | 14.810 | 0.361 | 15.691 | |
normalize_paths | 22.525 | 0.289 | 23.161 | |
paths_to_go_ancestor | 0.336 | 0.008 | 0.347 | |
pathway_comparison_plot | 26.002 | 0.359 | 26.835 | |
pca_plot | 0.036 | 0.001 | 0.038 | |
quantify_terms | 42.806 | 1.017 | 45.228 | |
save_results | 26.381 | 0.339 | 27.130 | |
top_pathways | 0.013 | 0.002 | 0.016 | |
translate_data | 13.948 | 0.404 | 14.770 | |
visualize_report | 26.617 | 0.396 | 27.475 | |