| Back to Multiple platform build/check report for BioC 3.10 | 
 | 
This page was generated on 2020-04-15 12:30:54 -0400 (Wed, 15 Apr 2020).
| Package 787/1823 | Hostname | OS / Arch | INSTALL | BUILD | CHECK | BUILD BIN | ||||||
| hierinf 1.4.0 Claude Renaux 
 | malbec1 | Linux (Ubuntu 18.04.4 LTS) / x86_64 | OK | OK | OK |  | ||||||
| tokay1 | Windows Server 2012 R2 Standard / x64 | OK | [ OK ] | OK | OK |  | ||||||
| merida1 | OS X 10.11.6 El Capitan / x86_64 | OK | OK | OK | OK |  | 
| Package: hierinf | 
| Version: 1.4.0 | 
| Command: chmod a+r hierinf -R && C:\Users\biocbuild\bbs-3.10-bioc\R\bin\R.exe CMD build --keep-empty-dirs --no-resave-data hierinf | 
| StartedAt: 2020-04-15 00:12:28 -0400 (Wed, 15 Apr 2020) | 
| EndedAt: 2020-04-15 00:14:08 -0400 (Wed, 15 Apr 2020) | 
| EllapsedTime: 100.8 seconds | 
| RetCode: 0 | 
| Status: OK | 
| PackageFile: hierinf_1.4.0.tar.gz | 
| PackageFileSize: 423.1 KiB | 
############################################################################## ############################################################################## ### ### Running command: ### ### chmod a+r hierinf -R && C:\Users\biocbuild\bbs-3.10-bioc\R\bin\R.exe CMD build --keep-empty-dirs --no-resave-data hierinf ### ############################################################################## ############################################################################## * checking for file 'hierinf/DESCRIPTION' ... OK * preparing 'hierinf': * checking DESCRIPTION meta-information ... OK * installing the package to build vignettes * creating vignettes ... OK * checking for LF line-endings in source and make files and shell scripts * checking for empty or unneeded directories * looking to see if a 'data/datalist' file should be added * building 'hierinf_1.4.0.tar.gz'