| Back to Multiple platform build/check report for BioC 3.10 |
|
This page was generated on 2020-04-15 12:10:10 -0400 (Wed, 15 Apr 2020).
| Package 786/1823 | Hostname | OS / Arch | INSTALL | BUILD | CHECK | BUILD BIN | ||||||
| hierGWAS 1.16.0 Laura Buzdugan
| malbec1 | Linux (Ubuntu 18.04.4 LTS) / x86_64 | OK | OK | [ OK ] | |||||||
| tokay1 | Windows Server 2012 R2 Standard / x64 | OK | OK | OK | OK | |||||||
| merida1 | OS X 10.11.6 El Capitan / x86_64 | OK | OK | OK | OK |
| Package: hierGWAS |
| Version: 1.16.0 |
| Command: /home/biocbuild/bbs-3.10-bioc/R/bin/R CMD check --install=check:hierGWAS.install-out.txt --library=/home/biocbuild/bbs-3.10-bioc/R/library --no-vignettes --timings hierGWAS_1.16.0.tar.gz |
| StartedAt: 2020-04-15 03:05:48 -0400 (Wed, 15 Apr 2020) |
| EndedAt: 2020-04-15 03:06:36 -0400 (Wed, 15 Apr 2020) |
| EllapsedTime: 47.8 seconds |
| RetCode: 0 |
| Status: OK |
| CheckDir: hierGWAS.Rcheck |
| Warnings: 0 |
##############################################################################
##############################################################################
###
### Running command:
###
### /home/biocbuild/bbs-3.10-bioc/R/bin/R CMD check --install=check:hierGWAS.install-out.txt --library=/home/biocbuild/bbs-3.10-bioc/R/library --no-vignettes --timings hierGWAS_1.16.0.tar.gz
###
##############################################################################
##############################################################################
* using log directory ‘/home/biocbuild/bbs-3.10-bioc/meat/hierGWAS.Rcheck’
* using R version 3.6.3 (2020-02-29)
* using platform: x86_64-pc-linux-gnu (64-bit)
* using session charset: UTF-8
* using option ‘--no-vignettes’
* checking for file ‘hierGWAS/DESCRIPTION’ ... OK
* this is package ‘hierGWAS’ version ‘1.16.0’
* checking package namespace information ... OK
* checking package dependencies ... OK
* checking if this is a source package ... OK
* checking if there is a namespace ... OK
* checking for hidden files and directories ... OK
* checking for portable file names ... OK
* checking for sufficient/correct file permissions ... OK
* checking whether package ‘hierGWAS’ can be installed ... OK
* checking installed package size ... OK
* checking package directory ... OK
* checking ‘build’ directory ... OK
* checking DESCRIPTION meta-information ... OK
* checking top-level files ... OK
* checking for left-over files ... OK
* checking index information ... OK
* checking package subdirectories ... OK
* checking R files for non-ASCII characters ... OK
* checking R files for syntax errors ... OK
* checking whether the package can be loaded ... OK
* checking whether the package can be loaded with stated dependencies ... OK
* checking whether the package can be unloaded cleanly ... OK
* checking whether the namespace can be loaded with stated dependencies ... OK
* checking whether the namespace can be unloaded cleanly ... OK
* checking dependencies in R code ... OK
* checking S3 generic/method consistency ... OK
* checking replacement functions ... OK
* checking foreign function calls ... OK
* checking R code for possible problems ... NOTE
MEL: no visible global function definition for ‘glm’
MEL: no visible binding for global variable ‘binomial’
MEL: no visible global function definition for ‘glm.control’
MEL: no visible global function definition for ‘coef’
adj.pval: no visible global function definition for ‘quantile’
cluster.snp: no visible global function definition for ‘cor’
cluster.snp: no visible global function definition for ‘as.dist’
cluster.snp: no visible global function definition for ‘as.dendrogram’
return.r2: no visible global function definition for ‘lm’
test.hierarchy: no visible global function definition for
‘order.dendrogram’
test.snp: no visible global function definition for ‘anova’
test.snp: no visible global function definition for ‘lm’
Undefined global functions or variables:
anova as.dendrogram as.dist binomial coef cor glm glm.control lm
order.dendrogram quantile
Consider adding
importFrom("stats", "anova", "as.dendrogram", "as.dist", "binomial",
"coef", "cor", "glm", "glm.control", "lm",
"order.dendrogram", "quantile")
to your NAMESPACE file.
* checking Rd files ... OK
* checking Rd metadata ... OK
* checking Rd cross-references ... OK
* checking for missing documentation entries ... OK
* checking for code/documentation mismatches ... OK
* checking Rd \usage sections ... OK
* checking Rd contents ... OK
* checking for unstated dependencies in examples ... OK
* checking contents of ‘data’ directory ... OK
* checking data for non-ASCII characters ... OK
* checking data for ASCII and uncompressed saves ... OK
* checking files in ‘vignettes’ ... OK
* checking examples ... OK
* checking for unstated dependencies in ‘tests’ ... OK
* checking tests ...
Running ‘runTests.R’
OK
* checking for unstated dependencies in vignettes ... OK
* checking package vignettes in ‘inst/doc’ ... OK
* checking running R code from vignettes ... SKIPPED
* checking re-building of vignette outputs ... SKIPPED
* checking PDF version of manual ... OK
* DONE
Status: 1 NOTE
See
‘/home/biocbuild/bbs-3.10-bioc/meat/hierGWAS.Rcheck/00check.log’
for details.
hierGWAS.Rcheck/00install.out
############################################################################## ############################################################################## ### ### Running command: ### ### /home/biocbuild/bbs-3.10-bioc/R/bin/R CMD INSTALL hierGWAS ### ############################################################################## ############################################################################## * installing to library ‘/home/biocbuild/bbs-3.10-bioc/R/library’ * installing *source* package ‘hierGWAS’ ... ** using staged installation ** R ** data *** moving datasets to lazyload DB ** inst ** byte-compile and prepare package for lazy loading ** help *** installing help indices ** building package indices ** installing vignettes ** testing if installed package can be loaded from temporary location ** testing if installed package can be loaded from final location ** testing if installed package keeps a record of temporary installation path * DONE (hierGWAS)
hierGWAS.Rcheck/tests/runTests.Rout
R version 3.6.3 (2020-02-29) -- "Holding the Windsock"
Copyright (C) 2020 The R Foundation for Statistical Computing
Platform: x86_64-pc-linux-gnu (64-bit)
R is free software and comes with ABSOLUTELY NO WARRANTY.
You are welcome to redistribute it under certain conditions.
Type 'license()' or 'licence()' for distribution details.
R is a collaborative project with many contributors.
Type 'contributors()' for more information and
'citation()' on how to cite R or R packages in publications.
Type 'demo()' for some demos, 'help()' for on-line help, or
'help.start()' for an HTML browser interface to help.
Type 'q()' to quit R.
> BiocGenerics:::testPackage("hierGWAS")
RUNIT TEST PROTOCOL -- Wed Apr 15 03:06:33 2020
***********************************************
Number of test functions: 2
Number of errors: 0
Number of failures: 0
1 Test Suite :
hierGWAS RUnit Tests - 2 test functions, 0 errors, 0 failures
Number of test functions: 2
Number of errors: 0
Number of failures: 0
>
> proc.time()
user system elapsed
1.792 0.092 1.906
hierGWAS.Rcheck/hierGWAS-Ex.timings
| name | user | system | elapsed | |
| cluster.snp | 0.020 | 0.008 | 0.027 | |
| compute.r2 | 0.252 | 0.024 | 0.277 | |
| multisplit | 0.288 | 0.008 | 0.298 | |
| simGWAS | 0.000 | 0.004 | 0.002 | |
| test.hierarchy | 3.416 | 0.000 | 3.427 | |