| Back to Multiple platform build/check report for BioC 3.10 | 
 | 
This page was generated on 2020-04-15 12:12:41 -0400 (Wed, 15 Apr 2020).
| Package 776/1823 | Hostname | OS / Arch | INSTALL | BUILD | CHECK | BUILD BIN | ||||||
| heatmaps 1.10.0 Malcolm Perry 
 | malbec1 | Linux (Ubuntu 18.04.4 LTS) / x86_64 | OK | [ OK ] | OK |  | ||||||
| tokay1 | Windows Server 2012 R2 Standard / x64 | OK | OK | OK | OK |  | ||||||
| merida1 | OS X 10.11.6 El Capitan / x86_64 | OK | OK | OK | OK |  | 
| Package: heatmaps | 
| Version: 1.10.0 | 
| Command: /home/biocbuild/bbs-3.10-bioc/R/bin/R CMD build --keep-empty-dirs --no-resave-data heatmaps | 
| StartedAt: 2020-04-14 22:32:48 -0400 (Tue, 14 Apr 2020) | 
| EndedAt: 2020-04-14 22:34:21 -0400 (Tue, 14 Apr 2020) | 
| EllapsedTime: 92.3 seconds | 
| RetCode: 0 | 
| Status: OK | 
| PackageFile: heatmaps_1.10.0.tar.gz | 
| PackageFileSize: 8.325 MiB | 
############################################################################## ############################################################################## ### ### Running command: ### ### /home/biocbuild/bbs-3.10-bioc/R/bin/R CMD build --keep-empty-dirs --no-resave-data heatmaps ### ############################################################################## ############################################################################## * checking for file ‘heatmaps/DESCRIPTION’ ... OK * preparing ‘heatmaps’: * checking DESCRIPTION meta-information ... OK * installing the package to build vignettes * creating vignettes ... OK * checking for LF line-endings in source and make files and shell scripts * checking for empty or unneeded directories * looking to see if a ‘data/datalist’ file should be added * building ‘heatmaps_1.10.0.tar.gz’