| Back to Multiple platform build/check report for BioC 3.10 |
|
This page was generated on 2020-04-15 12:37:40 -0400 (Wed, 15 Apr 2020).
| Package 734/1823 | Hostname | OS / Arch | INSTALL | BUILD | CHECK | BUILD BIN | ||||||
| gprege 1.30.0 Alfredo Kalaitzis
| malbec1 | Linux (Ubuntu 18.04.4 LTS) / x86_64 | OK | OK | OK | |||||||
| tokay1 | Windows Server 2012 R2 Standard / x64 | OK | OK | OK | OK | |||||||
| merida1 | OS X 10.11.6 El Capitan / x86_64 | OK | [ OK ] | OK | OK |
| Package: gprege |
| Version: 1.30.0 |
| Command: /Library/Frameworks/R.framework/Versions/Current/Resources/bin/R CMD build --keep-empty-dirs --no-resave-data gprege |
| StartedAt: 2020-04-14 20:32:50 -0400 (Tue, 14 Apr 2020) |
| EndedAt: 2020-04-14 20:33:18 -0400 (Tue, 14 Apr 2020) |
| EllapsedTime: 27.7 seconds |
| RetCode: 0 |
| Status: OK |
| PackageFile: gprege_1.30.0.tar.gz |
| PackageFileSize: 3.205 MiB |
##############################################################################
##############################################################################
###
### Running command:
###
### /Library/Frameworks/R.framework/Versions/Current/Resources/bin/R CMD build --keep-empty-dirs --no-resave-data gprege
###
##############################################################################
##############################################################################
* checking for file ‘gprege/DESCRIPTION’ ... OK
* preparing ‘gprege’:
* checking DESCRIPTION meta-information ... OK
* installing the package to build vignettes
* creating vignettes ... OK
Warning: ‘inst/doc’ file
‘gprege_quick.Rnw’
ignored as vignettes have been rebuilt.
Run R CMD build with --no-build-vignettes to prevent rebuilding.
* checking for LF line-endings in source and make files and shell scripts
* checking for empty or unneeded directories
* looking to see if a ‘data/datalist’ file should be added
* building ‘gprege_1.30.0.tar.gz’