| Back to Multiple platform build/check report for BioC 3.10 |
|
This page was generated on 2020-04-15 12:18:24 -0400 (Wed, 15 Apr 2020).
| Package 723/1823 | Hostname | OS / Arch | INSTALL | BUILD | CHECK | BUILD BIN | ||||||
| goProfiles 1.48.0 Alex Sanchez
| malbec1 | Linux (Ubuntu 18.04.4 LTS) / x86_64 | OK | OK | OK | |||||||
| tokay1 | Windows Server 2012 R2 Standard / x64 | OK | OK | OK | [ OK ] | |||||||
| merida1 | OS X 10.11.6 El Capitan / x86_64 | OK | OK | OK | OK |
| Package: goProfiles |
| Version: 1.48.0 |
| Command: rm -rf goProfiles.buildbin-libdir && mkdir goProfiles.buildbin-libdir && C:\Users\biocbuild\bbs-3.10-bioc\R\bin\R.exe CMD INSTALL --merge-multiarch --build --library=goProfiles.buildbin-libdir goProfiles_1.48.0.tar.gz |
| StartedAt: 2020-04-15 08:52:19 -0400 (Wed, 15 Apr 2020) |
| EndedAt: 2020-04-15 08:52:56 -0400 (Wed, 15 Apr 2020) |
| EllapsedTime: 37.8 seconds |
| RetCode: 0 |
| Status: OK |
| PackageFile: goProfiles_1.48.0.zip |
| PackageFileSize: 551.6 KiB |
##############################################################################
##############################################################################
###
### Running command:
###
### rm -rf goProfiles.buildbin-libdir && mkdir goProfiles.buildbin-libdir && C:\Users\biocbuild\bbs-3.10-bioc\R\bin\R.exe CMD INSTALL --merge-multiarch --build --library=goProfiles.buildbin-libdir goProfiles_1.48.0.tar.gz
###
##############################################################################
##############################################################################
install for i386
* installing *source* package 'goProfiles' ...
** using staged installation
** R
** data
** inst
** byte-compile and prepare package for lazy loading
** help
*** installing help indices
converting help for package 'goProfiles'
finding HTML links ... done
CD4ids html
GOTermsList html
basicProfile html
clustKidneyMF2 html
compSummary html
compareGOProfiles html
compareGeneLists html
compareProfilesLists html
contractedProfile html
conversionFunctions html
drosophila html
equivClust html
equivClust2pdf html
equivSummary html
equivalentGOProfiles html
expandedLevel html
expandedProfile html
fisherGOProfiles html
fitGOProfile html
goProfiles-package html
hugoIds html
iterEquivClust html
kidneyGeneLists html
mergeProfilesLists html
ngenes html
omimIds html
plotProfiles html
printProfiles html
prostateIds html
** building package indices
** installing vignettes
** testing if installed package can be loaded from temporary location
** testing if installed package can be loaded from final location
** testing if installed package keeps a record of temporary installation path
install for x64
* installing *source* package 'goProfiles' ...
** testing if installed package can be loaded
* MD5 sums
packaged installation of 'goProfiles' as goProfiles_1.48.0.zip
* DONE (goProfiles)