| Back to Multiple platform build/check report for BioC 3.10 |
|
This page was generated on 2020-04-15 12:17:01 -0400 (Wed, 15 Apr 2020).
| Package 714/1823 | Hostname | OS / Arch | INSTALL | BUILD | CHECK | BUILD BIN | ||||||
| globaltest 5.40.0 Jelle Goeman
| malbec1 | Linux (Ubuntu 18.04.4 LTS) / x86_64 | OK | OK | OK | |||||||
| tokay1 | Windows Server 2012 R2 Standard / x64 | OK | OK | OK | [ OK ] | |||||||
| merida1 | OS X 10.11.6 El Capitan / x86_64 | OK | OK | OK | OK |
| Package: globaltest |
| Version: 5.40.0 |
| Command: rm -rf globaltest.buildbin-libdir && mkdir globaltest.buildbin-libdir && C:\Users\biocbuild\bbs-3.10-bioc\R\bin\R.exe CMD INSTALL --merge-multiarch --build --library=globaltest.buildbin-libdir globaltest_5.40.0.tar.gz |
| StartedAt: 2020-04-15 08:51:32 -0400 (Wed, 15 Apr 2020) |
| EndedAt: 2020-04-15 08:52:32 -0400 (Wed, 15 Apr 2020) |
| EllapsedTime: 60.1 seconds |
| RetCode: 0 |
| Status: OK |
| PackageFile: globaltest_5.40.0.zip |
| PackageFileSize: 1.032 MiB |
##############################################################################
##############################################################################
###
### Running command:
###
### rm -rf globaltest.buildbin-libdir && mkdir globaltest.buildbin-libdir && C:\Users\biocbuild\bbs-3.10-bioc\R\bin\R.exe CMD INSTALL --merge-multiarch --build --library=globaltest.buildbin-libdir globaltest_5.40.0.tar.gz
###
##############################################################################
##############################################################################
install for i386
* installing *source* package 'globaltest' ...
** using staged installation
** R
** inst
** byte-compile and prepare package for lazy loading
** help
*** installing help indices
converting help for package 'globaltest'
finding HTML links ... done
comparative html
diagnostics html
genesettesting html
goodnessoffit html
gt html
gt.object-class html
gtoptions html
mlogit html
multtest html
** building package indices
** installing vignettes
** testing if installed package can be loaded from temporary location
** testing if installed package can be loaded from final location
** testing if installed package keeps a record of temporary installation path
install for x64
* installing *source* package 'globaltest' ...
** testing if installed package can be loaded
* MD5 sums
packaged installation of 'globaltest' as globaltest_5.40.0.zip
* DONE (globaltest)