| Back to Multiple platform build/check report for BioC 3.10 | 
  | 
This page was generated on 2020-04-15 12:25:46 -0400 (Wed, 15 Apr 2020).
| Package 713/1823 | Hostname | OS / Arch | INSTALL | BUILD | CHECK | BUILD BIN | ||||||
| globalSeq 1.14.0 Armin Rauschenberger 
  | malbec1 | Linux (Ubuntu 18.04.4 LTS) / x86_64 | OK | OK | OK | |||||||
| tokay1 | Windows Server 2012 R2 Standard / x64 | [ OK ] | OK | OK | OK | |||||||
| merida1 | OS X 10.11.6 El Capitan / x86_64 | OK | OK | OK | OK | 
| Package: globalSeq | 
| Version: 1.14.0 | 
| Command: C:\cygwin\bin\curl.exe -O https://malbec1.bioconductor.org/BBS/3.10/bioc/src/contrib/globalSeq_1.14.0.tar.gz && rm -rf globalSeq.buildbin-libdir && mkdir globalSeq.buildbin-libdir && C:\Users\biocbuild\bbs-3.10-bioc\R\bin\R.exe CMD INSTALL --merge-multiarch --build --library=globalSeq.buildbin-libdir globalSeq_1.14.0.tar.gz && C:\Users\biocbuild\bbs-3.10-bioc\R\bin\R.exe CMD INSTALL globalSeq_1.14.0.zip && rm globalSeq_1.14.0.tar.gz globalSeq_1.14.0.zip | 
| StartedAt: 2020-04-14 18:29:35 -0400 (Tue, 14 Apr 2020) | 
| EndedAt: 2020-04-14 18:29:59 -0400 (Tue, 14 Apr 2020) | 
| EllapsedTime: 23.7 seconds | 
| RetCode: 0 | 
| Status: OK | 
##############################################################################
##############################################################################
###
### Running command:
###
###   C:\cygwin\bin\curl.exe -O https://malbec1.bioconductor.org/BBS/3.10/bioc/src/contrib/globalSeq_1.14.0.tar.gz && rm -rf globalSeq.buildbin-libdir && mkdir globalSeq.buildbin-libdir && C:\Users\biocbuild\bbs-3.10-bioc\R\bin\R.exe CMD INSTALL --merge-multiarch --build --library=globalSeq.buildbin-libdir globalSeq_1.14.0.tar.gz && C:\Users\biocbuild\bbs-3.10-bioc\R\bin\R.exe CMD INSTALL globalSeq_1.14.0.zip && rm globalSeq_1.14.0.tar.gz globalSeq_1.14.0.zip
###
##############################################################################
##############################################################################
  % Total    % Received % Xferd  Average Speed   Time    Time     Time  Current
                                 Dload  Upload   Total   Spent    Left  Speed
  0     0    0     0    0     0      0      0 --:--:-- --:--:-- --:--:--     0
100  178k  100  178k    0     0  3508k      0 --:--:-- --:--:-- --:--:-- 3807k
install for i386
* installing *source* package 'globalSeq' ...
** using staged installation
** R
** data
*** moving datasets to lazyload DB
** inst
** byte-compile and prepare package for lazy loading
** help
*** installing help indices
  converting help for package 'globalSeq'
    finding HTML links ... done
    cursus                                  html  
    globalSeq-package                       html  
    intern.chromo                           html  
    intern.crude                            html  
    intern.estim                            html  
    intern.matrix                           html  
    intern.permu                            html  
    intern.plot                             html  
    intern.sam                              html  
    intern.score                            html  
    intern.select                           html  
    internal                                html  
    omnibus                                 html  
    proprius                                html  
    toydata                                 html  
** building package indices
** installing vignettes
** testing if installed package can be loaded from temporary location
** testing if installed package can be loaded from final location
** testing if installed package keeps a record of temporary installation path
install for x64
* installing *source* package 'globalSeq' ...
** testing if installed package can be loaded
* MD5 sums
packaged installation of 'globalSeq' as globalSeq_1.14.0.zip
* DONE (globalSeq)
* installing to library 'C:/Users/biocbuild/bbs-3.10-bioc/R/library'
package 'globalSeq' successfully unpacked and MD5 sums checked