| Back to Multiple platform build/check report for BioC 3.10 |
|
This page was generated on 2020-04-15 12:16:36 -0400 (Wed, 15 Apr 2020).
| Package 660/1823 | Hostname | OS / Arch | INSTALL | BUILD | CHECK | BUILD BIN | ||||||
| geneplotter 1.64.0 Bioconductor Package Maintainer
| malbec1 | Linux (Ubuntu 18.04.4 LTS) / x86_64 | OK | OK | OK | |||||||
| tokay1 | Windows Server 2012 R2 Standard / x64 | OK | OK | OK | [ OK ] | |||||||
| merida1 | OS X 10.11.6 El Capitan / x86_64 | OK | OK | OK | OK |
| Package: geneplotter |
| Version: 1.64.0 |
| Command: rm -rf geneplotter.buildbin-libdir && mkdir geneplotter.buildbin-libdir && C:\Users\biocbuild\bbs-3.10-bioc\R\bin\R.exe CMD INSTALL --merge-multiarch --build --library=geneplotter.buildbin-libdir geneplotter_1.64.0.tar.gz |
| StartedAt: 2020-04-15 08:47:34 -0400 (Wed, 15 Apr 2020) |
| EndedAt: 2020-04-15 08:48:10 -0400 (Wed, 15 Apr 2020) |
| EllapsedTime: 36.5 seconds |
| RetCode: 0 |
| Status: OK |
| PackageFile: geneplotter_1.64.0.zip |
| PackageFileSize: 1.511 MiB |
##############################################################################
##############################################################################
###
### Running command:
###
### rm -rf geneplotter.buildbin-libdir && mkdir geneplotter.buildbin-libdir && C:\Users\biocbuild\bbs-3.10-bioc\R\bin\R.exe CMD INSTALL --merge-multiarch --build --library=geneplotter.buildbin-libdir geneplotter_1.64.0.tar.gz
###
##############################################################################
##############################################################################
install for i386
* installing *source* package 'geneplotter' ...
** using staged installation
** R
** data
** inst
** byte-compile and prepare package for lazy loading
** help
*** installing help indices
converting help for package 'geneplotter'
finding HTML links ... done
GetColor html
Makesense html
alongChrom html
amplicon.plot html
cColor html
cPlot html
cScale html
eset133a html
groupedHeatmap html
histStack html
imageMap html
make.chromOrd html
multiecdf html
openHtmlPage html
plotChr html
plotExpressionGraph html
plotMA html
savepng html
** building package indices
** installing vignettes
** testing if installed package can be loaded from temporary location
** testing if installed package can be loaded from final location
** testing if installed package keeps a record of temporary installation path
install for x64
* installing *source* package 'geneplotter' ...
** testing if installed package can be loaded
* MD5 sums
packaged installation of 'geneplotter' as geneplotter_1.64.0.zip
* DONE (geneplotter)