Back to Multiple platform build/check report for BioC 3.10 |
|
This page was generated on 2020-04-15 12:05:44 -0400 (Wed, 15 Apr 2020).
Package 615/1823 | Hostname | OS / Arch | INSTALL | BUILD | CHECK | BUILD BIN | ||||||
frma 1.38.0 Matthew N. McCall
| malbec1 | Linux (Ubuntu 18.04.4 LTS) / x86_64 | [ OK ] | OK | OK | ![]() | ||||||
tokay1 | Windows Server 2012 R2 Standard / x64 | OK | OK | OK | OK | ![]() | ||||||
merida1 | OS X 10.11.6 El Capitan / x86_64 | OK | OK | OK | OK | ![]() |
Package: frma |
Version: 1.38.0 |
Command: /home/biocbuild/bbs-3.10-bioc/R/bin/R CMD INSTALL frma |
StartedAt: 2020-04-14 18:49:18 -0400 (Tue, 14 Apr 2020) |
EndedAt: 2020-04-14 18:49:46 -0400 (Tue, 14 Apr 2020) |
EllapsedTime: 27.8 seconds |
RetCode: 0 |
Status: OK |
############################################################################## ############################################################################## ### ### Running command: ### ### /home/biocbuild/bbs-3.10-bioc/R/bin/R CMD INSTALL frma ### ############################################################################## ############################################################################## * installing to library ‘/home/biocbuild/bbs-3.10-bioc/R/library’ * installing *source* package ‘frma’ ... ** using staged installation ** R ** inst ** byte-compile and prepare package for lazy loading No methods found in package ‘RSQLite’ for request: ‘dbListFields’ when loading ‘oligo’ ** help *** installing help indices ** building package indices ** installing vignettes ** testing if installed package can be loaded from temporary location No methods found in package ‘RSQLite’ for request: ‘dbListFields’ when loading ‘oligo’ ** testing if installed package can be loaded from final location No methods found in package ‘RSQLite’ for request: ‘dbListFields’ when loading ‘oligo’ ** testing if installed package keeps a record of temporary installation path * DONE (frma)