| Back to Multiple platform build/check report for BioC 3.10 | 
 | 
This page was generated on 2020-04-15 12:04:51 -0400 (Wed, 15 Apr 2020).
| Package 607/1823 | Hostname | OS / Arch | INSTALL | BUILD | CHECK | BUILD BIN | ||||||
| flowViz 1.50.0 Mike Jiang 
 | malbec1 | Linux (Ubuntu 18.04.4 LTS) / x86_64 | OK | [ OK ] | OK |  | ||||||
| tokay1 | Windows Server 2012 R2 Standard / x64 | OK | OK | WARNINGS | OK |  | ||||||
| merida1 | OS X 10.11.6 El Capitan / x86_64 | OK | OK | OK | OK |  | 
| Package: flowViz | 
| Version: 1.50.0 | 
| Command: /home/biocbuild/bbs-3.10-bioc/R/bin/R CMD build --keep-empty-dirs --no-resave-data flowViz | 
| StartedAt: 2020-04-14 19:30:08 -0400 (Tue, 14 Apr 2020) | 
| EndedAt: 2020-04-14 19:31:32 -0400 (Tue, 14 Apr 2020) | 
| EllapsedTime: 83.7 seconds | 
| RetCode: 0 | 
| Status: OK | 
| PackageFile: flowViz_1.50.0.tar.gz | 
| PackageFileSize: 926.9 KiB | 
##############################################################################
##############################################################################
###
### Running command:
###
###   /home/biocbuild/bbs-3.10-bioc/R/bin/R CMD build --keep-empty-dirs --no-resave-data flowViz
###
##############################################################################
##############################################################################
* checking for file ‘flowViz/DESCRIPTION’ ... OK
* preparing ‘flowViz’:
* checking DESCRIPTION meta-information ... OK
* installing the package to build vignettes
* creating vignettes ... OK
Warning: ‘inst/doc’ file
    ‘filters.html’
  ignored as vignettes have been rebuilt.
  Run R CMD build with --no-build-vignettes to prevent rebuilding.
* checking for LF line-endings in source and make files and shell scripts
* checking for empty or unneeded directories
* building ‘flowViz_1.50.0.tar.gz’