| Back to Multiple platform build/check report for BioC 3.10 | 
 | 
This page was generated on 2020-04-15 12:17:51 -0400 (Wed, 15 Apr 2020).
| Package 606/1823 | Hostname | OS / Arch | INSTALL | BUILD | CHECK | BUILD BIN | ||||||
| flowUtils 1.50.0 Josef Spidlen 
 | malbec1 | Linux (Ubuntu 18.04.4 LTS) / x86_64 | OK | OK | OK |  | ||||||
| tokay1 | Windows Server 2012 R2 Standard / x64 | [ OK ] | OK | OK | OK |  | ||||||
| merida1 | OS X 10.11.6 El Capitan / x86_64 | OK | OK | OK | OK |  | 
| Package: flowUtils | 
| Version: 1.50.0 | 
| Command: C:\cygwin\bin\curl.exe -O https://malbec1.bioconductor.org/BBS/3.10/bioc/src/contrib/flowUtils_1.50.0.tar.gz && rm -rf flowUtils.buildbin-libdir && mkdir flowUtils.buildbin-libdir && C:\Users\biocbuild\bbs-3.10-bioc\R\bin\R.exe CMD INSTALL --merge-multiarch --build --library=flowUtils.buildbin-libdir flowUtils_1.50.0.tar.gz && C:\Users\biocbuild\bbs-3.10-bioc\R\bin\R.exe CMD INSTALL flowUtils_1.50.0.zip && rm flowUtils_1.50.0.tar.gz flowUtils_1.50.0.zip | 
| StartedAt: 2020-04-14 18:48:54 -0400 (Tue, 14 Apr 2020) | 
| EndedAt: 2020-04-14 18:49:29 -0400 (Tue, 14 Apr 2020) | 
| EllapsedTime: 34.9 seconds | 
| RetCode: 0 | 
| Status: OK | 
##############################################################################
##############################################################################
###
### Running command:
###
###   C:\cygwin\bin\curl.exe -O https://malbec1.bioconductor.org/BBS/3.10/bioc/src/contrib/flowUtils_1.50.0.tar.gz && rm -rf flowUtils.buildbin-libdir && mkdir flowUtils.buildbin-libdir && C:\Users\biocbuild\bbs-3.10-bioc\R\bin\R.exe CMD INSTALL --merge-multiarch --build --library=flowUtils.buildbin-libdir flowUtils_1.50.0.tar.gz && C:\Users\biocbuild\bbs-3.10-bioc\R\bin\R.exe CMD INSTALL flowUtils_1.50.0.zip && rm flowUtils_1.50.0.tar.gz flowUtils_1.50.0.zip
###
##############################################################################
##############################################################################
  % Total    % Received % Xferd  Average Speed   Time    Time     Time  Current
                                 Dload  Upload   Total   Spent    Left  Speed
  0     0    0     0    0     0      0      0 --:--:-- --:--:-- --:--:--     0
100 86468  100 86468    0     0  1957k      0 --:--:-- --:--:-- --:--:-- 2111k
install for i386
* installing *source* package 'flowUtils' ...
** using staged installation
** R
** inst
** byte-compile and prepare package for lazy loading
** help
*** installing help indices
  converting help for package 'flowUtils'
    finding HTML links ... done
    flowUtil-package                        html  
    read.gatingML                           html  
    testGatingMLCompliance                  html  
    write.gatingML                          html  
** building package indices
** installing vignettes
** testing if installed package can be loaded from temporary location
** testing if installed package can be loaded from final location
** testing if installed package keeps a record of temporary installation path
install for x64
* installing *source* package 'flowUtils' ...
** testing if installed package can be loaded
* MD5 sums
packaged installation of 'flowUtils' as flowUtils_1.50.0.zip
* DONE (flowUtils)
* installing to library 'C:/Users/biocbuild/bbs-3.10-bioc/R/library'
package 'flowUtils' successfully unpacked and MD5 sums checked