| Back to Multiple platform build/check report for BioC 3.10 | 
 | 
This page was generated on 2020-04-15 12:16:26 -0400 (Wed, 15 Apr 2020).
| Package 601/1823 | Hostname | OS / Arch | INSTALL | BUILD | CHECK | BUILD BIN | ||||||
| flowSpy 1.0.4 Yuting Dai 
 | malbec1 | Linux (Ubuntu 18.04.4 LTS) / x86_64 | OK | [ OK ] | OK |  | ||||||
| tokay1 | Windows Server 2012 R2 Standard / x64 | OK | OK | OK | OK |  | ||||||
| merida1 | OS X 10.11.6 El Capitan / x86_64 | OK | OK | OK | OK |  | 
| Package: flowSpy | 
| Version: 1.0.4 | 
| Command: /home/biocbuild/bbs-3.10-bioc/R/bin/R CMD build --keep-empty-dirs --no-resave-data flowSpy | 
| StartedAt: 2020-04-14 23:57:23 -0400 (Tue, 14 Apr 2020) | 
| EndedAt: 2020-04-14 23:58:37 -0400 (Tue, 14 Apr 2020) | 
| EllapsedTime: 74.4 seconds | 
| RetCode: 0 | 
| Status: OK | 
| PackageFile: flowSpy_1.0.4.tar.gz | 
| PackageFileSize: 3.186 MiB | 
############################################################################## ############################################################################## ### ### Running command: ### ### /home/biocbuild/bbs-3.10-bioc/R/bin/R CMD build --keep-empty-dirs --no-resave-data flowSpy ### ############################################################################## ############################################################################## * checking for file ‘flowSpy/DESCRIPTION’ ... OK * preparing ‘flowSpy’: * checking DESCRIPTION meta-information ... OK * cleaning src * installing the package to build vignettes * creating vignettes ... OK * cleaning src * checking for LF line-endings in source and make files and shell scripts * checking for empty or unneeded directories * building ‘flowSpy_1.0.4.tar.gz’