| Back to Multiple platform build/check report for BioC 3.10 | 
 | 
This page was generated on 2020-04-15 12:37:50 -0400 (Wed, 15 Apr 2020).
| Package 595/1823 | Hostname | OS / Arch | INSTALL | BUILD | CHECK | BUILD BIN | ||||||
| flowPeaks 1.32.0 Yongchao Ge 
 | malbec1 | Linux (Ubuntu 18.04.4 LTS) / x86_64 | OK | OK | OK |  | ||||||
| tokay1 | Windows Server 2012 R2 Standard / x64 | OK | OK | OK | OK |  | ||||||
| merida1 | OS X 10.11.6 El Capitan / x86_64 | OK | OK | OK | [ OK ] |  | 
| Package: flowPeaks | 
| Version: 1.32.0 | 
| Command: rm -rf flowPeaks.buildbin-libdir && mkdir flowPeaks.buildbin-libdir && /Users/biocbuild/BBS/utils/build-universal.sh flowPeaks_1.32.0.tar.gz /Library/Frameworks/R.framework/Versions/Current/Resources/bin/R flowPeaks.buildbin-libdir | 
| StartedAt: 2020-04-15 07:29:06 -0400 (Wed, 15 Apr 2020) | 
| EndedAt: 2020-04-15 07:29:54 -0400 (Wed, 15 Apr 2020) | 
| EllapsedTime: 47.5 seconds | 
| RetCode: 0 | 
| Status: OK | 
| PackageFile: flowPeaks_1.32.0.tgz | 
| PackageFileSize: 4.132 MiB | 
##############################################################################
##############################################################################
###
### Running command:
###
###   rm -rf flowPeaks.buildbin-libdir && mkdir flowPeaks.buildbin-libdir && /Users/biocbuild/BBS/utils/build-universal.sh flowPeaks_1.32.0.tar.gz /Library/Frameworks/R.framework/Versions/Current/Resources/bin/R flowPeaks.buildbin-libdir
###
##############################################################################
##############################################################################
>>>>>>> 
>>>>>>> INSTALLATION WITH 'R CMD INSTALL --preclean --no-multiarch --library=flowPeaks.buildbin-libdir flowPeaks_1.32.0.tar.gz'
>>>>>>> 
* installing *source* package ‘flowPeaks’ ...
** using staged installation
** libs
clang++ -std=gnu++11 -I"/Library/Frameworks/R.framework/Resources/include" -DNDEBUG   -isysroot /Library/Developer/CommandLineTools/SDKs/MacOSX.sdk -I/usr/local/include `gsl-config --cflags`  -fPIC  -Wall -g -O2  -c Rpack.cpp -o Rpack.o
clang++ -std=gnu++11 -I"/Library/Frameworks/R.framework/Resources/include" -DNDEBUG   -isysroot /Library/Developer/CommandLineTools/SDKs/MacOSX.sdk -I/usr/local/include `gsl-config --cflags`  -fPIC  -Wall -g -O2  -c Rregistrate.cpp -o Rregistrate.o
clang++ -std=gnu++11 -I"/Library/Frameworks/R.framework/Resources/include" -DNDEBUG   -isysroot /Library/Developer/CommandLineTools/SDKs/MacOSX.sdk -I/usr/local/include `gsl-config --cflags`  -fPIC  -Wall -g -O2  -c VoronoiDiagramGenerator.cpp -o VoronoiDiagramGenerator.o
VoronoiDiagramGenerator.cpp:803:5: warning: logical not is only applied to the left hand side of this bitwise operator [-Wlogical-not-parentheses]
        if(!triangulate & plot & !debug)
           ^            ~
VoronoiDiagramGenerator.cpp:803:5: note: add parentheses after the '!' to evaluate the bitwise operator first
        if(!triangulate & plot & !debug)
           ^
            (                 )
VoronoiDiagramGenerator.cpp:803:5: note: add parentheses around left hand side expression to silence this warning
        if(!triangulate & plot & !debug)
           ^
           (           )
1 warning generated.
clang++ -std=gnu++11 -I"/Library/Frameworks/R.framework/Resources/include" -DNDEBUG   -isysroot /Library/Developer/CommandLineTools/SDKs/MacOSX.sdk -I/usr/local/include `gsl-config --cflags`  -fPIC  -Wall -g -O2  -c flowPeaks.cpp -o flowPeaks.o
clang++ -std=gnu++11 -I"/Library/Frameworks/R.framework/Resources/include" -DNDEBUG   -isysroot /Library/Developer/CommandLineTools/SDKs/MacOSX.sdk -I/usr/local/include `gsl-config --cflags`  -fPIC  -Wall -g -O2  -c func_collect.cpp -o func_collect.o
clang++ -std=gnu++11 -I"/Library/Frameworks/R.framework/Resources/include" -DNDEBUG   -isysroot /Library/Developer/CommandLineTools/SDKs/MacOSX.sdk -I/usr/local/include `gsl-config --cflags`  -fPIC  -Wall -g -O2  -c func_collect_supp.cpp -o func_collect_supp.o
clang++ -std=gnu++11 -I"/Library/Frameworks/R.framework/Resources/include" -DNDEBUG   -isysroot /Library/Developer/CommandLineTools/SDKs/MacOSX.sdk -I/usr/local/include `gsl-config --cflags`  -fPIC  -Wall -g -O2  -c gvector_gmatrix.cpp -o gvector_gmatrix.o
clang++ -std=gnu++11 -I"/Library/Frameworks/R.framework/Resources/include" -DNDEBUG   -isysroot /Library/Developer/CommandLineTools/SDKs/MacOSX.sdk -I/usr/local/include `gsl-config --cflags`  -fPIC  -Wall -g -O2  -c kd_tree.cpp -o kd_tree.o
clang++ -std=gnu++11 -I"/Library/Frameworks/R.framework/Resources/include" -DNDEBUG   -isysroot /Library/Developer/CommandLineTools/SDKs/MacOSX.sdk -I/usr/local/include `gsl-config --cflags`  -fPIC  -Wall -g -O2  -c kmns.cpp -o kmns.o
clang++ -std=gnu++11 -dynamiclib -Wl,-headerpad_max_install_names -undefined dynamic_lookup -single_module -multiply_defined suppress -L/Library/Frameworks/R.framework/Resources/lib -L/usr/local/lib -o flowPeaks.so Rpack.o Rregistrate.o VoronoiDiagramGenerator.o flowPeaks.o func_collect.o func_collect_supp.o gvector_gmatrix.o kd_tree.o kmns.o -L/usr/local/lib -lgsl -lgslcblas -F/Library/Frameworks/R.framework/.. -framework R -Wl,-framework -Wl,CoreFoundation
installing to /Users/biocbuild/bbs-3.10-bioc/meat/flowPeaks.buildbin-libdir/00LOCK-flowPeaks/00new/flowPeaks/libs
** R
** data
** inst
** byte-compile and prepare package for lazy loading
** help
*** installing help indices
** building package indices
** installing vignettes
** testing if installed package can be loaded from temporary location
** checking absolute paths in shared objects and dynamic libraries
** testing if installed package can be loaded from final location
** testing if installed package keeps a record of temporary installation path
* DONE (flowPeaks)
>>>>>>> 
>>>>>>> FIXING LINKS FOR flowPeaks.buildbin-libdir/flowPeaks/libs//flowPeaks.so
>>>>>>> 
install_name_tool -change "/usr/local/lib/libgcc_s.1.dylib" "/Library/Frameworks/R.framework/Versions/3.6/Resources/lib/libgcc_s.1.dylib" "flowPeaks.buildbin-libdir/flowPeaks/libs//flowPeaks.so"
install_name_tool -change "/usr/local/lib/libgfortran.3.dylib" "/Library/Frameworks/R.framework/Versions/3.6/Resources/lib/libgfortran.3.dylib" "flowPeaks.buildbin-libdir/flowPeaks/libs//flowPeaks.so"
install_name_tool -change "/usr/local/lib/libreadline.5.2.dylib" "/Library/Frameworks/R.framework/Versions/3.6/Resources/lib/libreadline.5.2.dylib" "flowPeaks.buildbin-libdir/flowPeaks/libs//flowPeaks.so"
install_name_tool -change "/usr/local/lib/libreadline.dylib" "/Library/Frameworks/R.framework/Versions/3.6/Resources/lib/libreadline.dylib" "flowPeaks.buildbin-libdir/flowPeaks/libs//flowPeaks.so"
install_name_tool -change "/usr/local/lib/libquadmath.0.dylib" "/Library/Frameworks/R.framework/Versions/3.6/Resources/lib/libquadmath.0.dylib" "flowPeaks.buildbin-libdir/flowPeaks/libs//flowPeaks.so"