| Back to Multiple platform build/check report for BioC 3.10 |
|
This page was generated on 2020-04-15 12:22:27 -0400 (Wed, 15 Apr 2020).
| Package 580/1823 | Hostname | OS / Arch | INSTALL | BUILD | CHECK | BUILD BIN | ||||||
| flowBin 1.22.0 Kieran O'Neill
| malbec1 | Linux (Ubuntu 18.04.4 LTS) / x86_64 | OK | OK | OK | |||||||
| tokay1 | Windows Server 2012 R2 Standard / x64 | OK | OK | OK | [ OK ] | |||||||
| merida1 | OS X 10.11.6 El Capitan / x86_64 | OK | OK | OK | OK |
| Package: flowBin |
| Version: 1.22.0 |
| Command: rm -rf flowBin.buildbin-libdir && mkdir flowBin.buildbin-libdir && C:\Users\biocbuild\bbs-3.10-bioc\R\bin\R.exe CMD INSTALL --merge-multiarch --build --library=flowBin.buildbin-libdir flowBin_1.22.0.tar.gz |
| StartedAt: 2020-04-15 08:43:14 -0400 (Wed, 15 Apr 2020) |
| EndedAt: 2020-04-15 08:43:49 -0400 (Wed, 15 Apr 2020) |
| EllapsedTime: 34.9 seconds |
| RetCode: 0 |
| Status: OK |
| PackageFile: flowBin_1.22.0.zip |
| PackageFileSize: 497 KiB |
##############################################################################
##############################################################################
###
### Running command:
###
### rm -rf flowBin.buildbin-libdir && mkdir flowBin.buildbin-libdir && C:\Users\biocbuild\bbs-3.10-bioc\R\bin\R.exe CMD INSTALL --merge-multiarch --build --library=flowBin.buildbin-libdir flowBin_1.22.0.tar.gz
###
##############################################################################
##############################################################################
install for i386
* installing *source* package 'flowBin' ...
** using staged installation
** R
** data
** inst
** byte-compile and prepare package for lazy loading
** help
*** installing help indices
converting help for package 'flowBin'
finding HTML links ... done
BinnedFlowSample html
FlowSample html
amlsample html
checkQNorm html
eventsInBins html
flowBin html
flowFPBin html
getBinExpr html
kMeansBin html
mapBinsKNN html
quantileNormalise html
removeSparseBins html
show-methods html
** building package indices
** installing vignettes
** testing if installed package can be loaded from temporary location
** testing if installed package can be loaded from final location
** testing if installed package keeps a record of temporary installation path
install for x64
* installing *source* package 'flowBin' ...
** testing if installed package can be loaded
* MD5 sums
packaged installation of 'flowBin' as flowBin_1.22.0.zip
* DONE (flowBin)