| Back to Multiple platform build/check report for BioC 3.10 |
|
This page was generated on 2020-04-15 12:18:39 -0400 (Wed, 15 Apr 2020).
| Package 576/1823 | Hostname | OS / Arch | INSTALL | BUILD | CHECK | BUILD BIN | ||||||
| flagme 1.42.0 Mark Robinson
| malbec1 | Linux (Ubuntu 18.04.4 LTS) / x86_64 | OK | OK | WARNINGS | |||||||
| tokay1 | Windows Server 2012 R2 Standard / x64 | OK | OK | WARNINGS | [ OK ] | |||||||
| merida1 | OS X 10.11.6 El Capitan / x86_64 | OK | OK | WARNINGS | OK |
| Package: flagme |
| Version: 1.42.0 |
| Command: rm -rf flagme.buildbin-libdir && mkdir flagme.buildbin-libdir && C:\Users\biocbuild\bbs-3.10-bioc\R\bin\R.exe CMD INSTALL --merge-multiarch --build --library=flagme.buildbin-libdir flagme_1.42.0.tar.gz |
| StartedAt: 2020-04-15 08:43:00 -0400 (Wed, 15 Apr 2020) |
| EndedAt: 2020-04-15 08:44:22 -0400 (Wed, 15 Apr 2020) |
| EllapsedTime: 82.4 seconds |
| RetCode: 0 |
| Status: OK |
| PackageFile: flagme_1.42.0.zip |
| PackageFileSize: 886.1 KiB |
##############################################################################
##############################################################################
###
### Running command:
###
### rm -rf flagme.buildbin-libdir && mkdir flagme.buildbin-libdir && C:\Users\biocbuild\bbs-3.10-bioc\R\bin\R.exe CMD INSTALL --merge-multiarch --build --library=flagme.buildbin-libdir flagme_1.42.0.tar.gz
###
##############################################################################
##############################################################################
install for i386
* installing *source* package 'flagme' ...
** using staged installation
** libs
C:/Rtools/mingw_32/bin/gcc -I"C:/Users/BIOCBU~1/BBS-3~1.10-/R/include" -DNDEBUG -I"C:/extsoft/include" -O3 -Wall -std=gnu99 -mtune=core2 -c dp.c -o dp.o
dp.c: In function 'dp':
dp.c:218:21: warning: 'cur_min' may be used uninitialized in this function [-Wmaybe-uninitialized]
double gap=*gap_, cur_min, a, b, c;
^
dp.c:217:30: warning: 'tb' may be used uninitialized in this function [-Wmaybe-uninitialized]
int i,j, nr=*nr_, nc=*nc_, tb, count=0, done=0;
^
C:/Rtools/mingw_32/bin/gcc -I"C:/Users/BIOCBU~1/BBS-3~1.10-/R/include" -DNDEBUG -I"C:/extsoft/include" -O3 -Wall -std=gnu99 -mtune=core2 -c init.c -o init.o
C:/Rtools/mingw_32/bin/gcc -I"C:/Users/BIOCBU~1/BBS-3~1.10-/R/include" -DNDEBUG -I"C:/extsoft/include" -O3 -Wall -std=gnu99 -mtune=core2 -c pearson.c -o pearson.o
C:/Rtools/mingw_32/bin/gcc -shared -s -static-libgcc -o flagme.dll tmp.def dp.o init.o pearson.o -LC:/extsoft/lib/i386 -LC:/extsoft/lib -LC:/Users/BIOCBU~1/BBS-3~1.10-/R/bin/i386 -lR
installing to C:/Users/biocbuild/bbs-3.10-bioc/meat/flagme.buildbin-libdir/00LOCK-flagme/00new/flagme/libs/i386
** R
** inst
** byte-compile and prepare package for lazy loading
Warning message:
replacing previous import 'xcms::plot' by 'graphics::plot' when loading 'CAMERA'
** help
*** installing help indices
converting help for package 'flagme'
finding HTML links ... done
addAMDISPeaks html
addChromaTOFPeaks html
addXCMSPeaks html
finding level-2 HTML links ... done
betweenAlignment html
calcTimeDiffs html
clusterAlignment html
compress html
corPrt html
dp html
dynRT html
eitherMatrix html
exportSpectra html
gatherInfo html
imputePeaks html
multipleAlignment html
ndpRT html
normDotProduct html
parseChromaTOF html
parseELU html
peaksAlignment html
peaksDataset html
plot html
plotImage html
plotMultipleSpectra html
plotSpectra html
progressiveAlignment html
retFatMatrix html
rmaFitUnit html
** building package indices
** installing vignettes
** testing if installed package can be loaded from temporary location
Warning: replacing previous import 'xcms::plot' by 'graphics::plot' when loading 'CAMERA'
** testing if installed package can be loaded from final location
Warning: replacing previous import 'xcms::plot' by 'graphics::plot' when loading 'CAMERA'
** testing if installed package keeps a record of temporary installation path
install for x64
* installing *source* package 'flagme' ...
** libs
C:/Rtools/mingw_64/bin/gcc -I"C:/Users/BIOCBU~1/BBS-3~1.10-/R/include" -DNDEBUG -I"C:/extsoft/include" -O2 -Wall -std=gnu99 -mtune=core2 -c dp.c -o dp.o
dp.c: In function 'dp':
dp.c:263:26: warning: 'cur_min' may be used uninitialized in this function [-Wmaybe-uninitialized]
D[(i+1)+(j+1)*(nr+1)] = cur_min;
^
dp.c:264:28: warning: 'tb' may be used uninitialized in this function [-Wmaybe-uninitialized]
phi[(i+1)+(j+1)*(nr+1)] = tb;
^
C:/Rtools/mingw_64/bin/gcc -I"C:/Users/BIOCBU~1/BBS-3~1.10-/R/include" -DNDEBUG -I"C:/extsoft/include" -O2 -Wall -std=gnu99 -mtune=core2 -c init.c -o init.o
C:/Rtools/mingw_64/bin/gcc -I"C:/Users/BIOCBU~1/BBS-3~1.10-/R/include" -DNDEBUG -I"C:/extsoft/include" -O2 -Wall -std=gnu99 -mtune=core2 -c pearson.c -o pearson.o
C:/Rtools/mingw_64/bin/gcc -shared -s -static-libgcc -o flagme.dll tmp.def dp.o init.o pearson.o -LC:/extsoft/lib/x64 -LC:/extsoft/lib -LC:/Users/BIOCBU~1/BBS-3~1.10-/R/bin/x64 -lR
installing to C:/Users/biocbuild/bbs-3.10-bioc/meat/flagme.buildbin-libdir/flagme/libs/x64
** testing if installed package can be loaded
Warning: replacing previous import 'xcms::plot' by 'graphics::plot' when loading 'CAMERA'
* MD5 sums
packaged installation of 'flagme' as flagme_1.42.0.zip
* DONE (flagme)