| Back to Multiple platform build/check report for BioC 3.10 |
|
This page was generated on 2020-04-15 12:18:06 -0400 (Wed, 15 Apr 2020).
| Package 551/1823 | Hostname | OS / Arch | INSTALL | BUILD | CHECK | BUILD BIN | ||||||
| explorase 1.50.0 Michael Lawrence
| malbec1 | Linux (Ubuntu 18.04.4 LTS) / x86_64 | OK | OK | OK | |||||||
| tokay1 | Windows Server 2012 R2 Standard / x64 | [ OK ] | OK | OK | OK | |||||||
| merida1 | OS X 10.11.6 El Capitan / x86_64 | ...NOT SUPPORTED... | ||||||||||
| Package: explorase |
| Version: 1.50.0 |
| Command: C:\Users\biocbuild\bbs-3.10-bioc\R\bin\R.exe --arch i386 CMD INSTALL --no-multiarch explorase |
| StartedAt: 2020-04-14 18:35:39 -0400 (Tue, 14 Apr 2020) |
| EndedAt: 2020-04-14 18:37:26 -0400 (Tue, 14 Apr 2020) |
| EllapsedTime: 107.6 seconds |
| RetCode: 0 |
| Status: OK |
##############################################################################
##############################################################################
###
### Running command:
###
### C:\Users\biocbuild\bbs-3.10-bioc\R\bin\R.exe --arch i386 CMD INSTALL --no-multiarch explorase
###
##############################################################################
##############################################################################
* installing to library 'C:/Users/biocbuild/bbs-3.10-bioc/R/library'
* installing *source* package 'explorase' ...
** using staged installation
** R
** inst
** byte-compile and prepare package for lazy loading
** help
*** installing help indices
converting help for package 'explorase'
finding HTML links ... done
exp-addEntityType-vx html
exp-addFilterRule-rn html
exp-calcAngleDist-31 html
exp-calcCanberraDist html
exp-calcCorrelationDist-45 html
exp-calcDiff-y4 html
exp-calcEuclideanDist-dn html
exp-calcMahalanobisDist-r1 html
exp-calcResiduals-ps html
exp-calcZeroCorDist-by html
exp-close html
exp-colorEntities-1h html
exp-dataset-6l html
exp-designFactors-72 html
exp-designFrame-d0 html
exp-designSelection-5s html
exp-entitiesInList-df html
exp-entityFrame-4j html
exp-entitySelection-11 html
exp-entityType-69 html
exp-entityTypes-9e html
exp-filterRules-vt html
exp-findPatterns-yw html
exp-ggobi-69 html
exp-isRunning-fo html
exp-listFrame-gp html
exp-listSelection html
exp-loadData-bo html
exp-loadDesign-35 html
exp-loadFiles-1w html
exp-loadInfo-gk html
exp-loadLists-pr html
exp-loadProject-1g html
exp-newList-bs html
exp-removeFilterRules-1i html
exp-showClustering-b7 html
exp-showPatterns-bh html
exp-showResults-sk html
exp-toggleFilterRules-ts html
exp_bioc html
explorase html
** building package indices
** installing vignettes
** testing if installed package can be loaded from temporary location
** testing if installed package can be loaded from final location
** testing if installed package keeps a record of temporary installation path
* DONE (explorase)
Making 'packages.html' ... done