| Back to Multiple platform build/check report for BioC 3.10 | 
  | 
This page was generated on 2020-04-15 12:22:13 -0400 (Wed, 15 Apr 2020).
| Package 548/1823 | Hostname | OS / Arch | INSTALL | BUILD | CHECK | BUILD BIN | ||||||
Lin Zhang 
  | malbec1 | Linux (Ubuntu 18.04.4 LTS) / x86_64 | OK | OK | ERROR | |||||||
| tokay1 | Windows Server 2012 R2 Standard / x64 | OK | [ OK ] | ERROR | OK | |||||||
| merida1 | OS X 10.11.6 El Capitan / x86_64 | OK | OK | ERROR | OK | 
| Package: exomePeak | 
| Version: 2.20.0 | 
| Command: chmod a+r exomePeak -R && C:\Users\biocbuild\bbs-3.10-bioc\R\bin\R.exe CMD build --keep-empty-dirs --no-resave-data exomePeak | 
| StartedAt: 2020-04-14 21:48:05 -0400 (Tue, 14 Apr 2020) | 
| EndedAt: 2020-04-14 21:49:26 -0400 (Tue, 14 Apr 2020) | 
| EllapsedTime: 81.7 seconds | 
| RetCode: 0 | 
| Status: OK | 
| PackageFile: exomePeak_2.20.0.tar.gz | 
| PackageFileSize: 2.246 MiB | 
############################################################################## ############################################################################## ### ### Running command: ### ### chmod a+r exomePeak -R && C:\Users\biocbuild\bbs-3.10-bioc\R\bin\R.exe CMD build --keep-empty-dirs --no-resave-data exomePeak ### ############################################################################## ############################################################################## * checking for file 'exomePeak/DESCRIPTION' ... OK * preparing 'exomePeak': * checking DESCRIPTION meta-information ... OK * installing the package to build vignettes * creating vignettes ... OK * checking for LF line-endings in source and make files and shell scripts * checking for empty or unneeded directories NB: this package now depends on R (>= 3.5.0) WARNING: Added dependency on R >= 3.5.0 because serialized objects in serialize/load version 3 cannot be read in older versions of R. File(s) containing such objects: 'exomePeak/vignettes/exomePeak_output/exomePeak.Rdata' * building 'exomePeak_2.20.0.tar.gz'