Back to Multiple platform build/check report for BioC 3.10 |
|
This page was generated on 2020-04-15 12:26:39 -0400 (Wed, 15 Apr 2020).
Package 534/1823 | Hostname | OS / Arch | INSTALL | BUILD | CHECK | BUILD BIN | ||||||
epivizrData 1.14.0 Hector Corrada Bravo
| malbec1 | Linux (Ubuntu 18.04.4 LTS) / x86_64 | OK | OK | OK | ![]() | ||||||
tokay1 | Windows Server 2012 R2 Standard / x64 | [ OK ] | OK | WARNINGS | OK | ![]() | ||||||
merida1 | OS X 10.11.6 El Capitan / x86_64 | OK | OK | OK | OK | ![]() |
Package: epivizrData |
Version: 1.14.0 |
Command: C:\cygwin\bin\curl.exe -O https://malbec1.bioconductor.org/BBS/3.10/bioc/src/contrib/epivizrData_1.14.0.tar.gz && rm -rf epivizrData.buildbin-libdir && mkdir epivizrData.buildbin-libdir && C:\Users\biocbuild\bbs-3.10-bioc\R\bin\R.exe CMD INSTALL --merge-multiarch --build --library=epivizrData.buildbin-libdir epivizrData_1.14.0.tar.gz && C:\Users\biocbuild\bbs-3.10-bioc\R\bin\R.exe CMD INSTALL epivizrData_1.14.0.zip && rm epivizrData_1.14.0.tar.gz epivizrData_1.14.0.zip |
StartedAt: 2020-04-14 20:02:01 -0400 (Tue, 14 Apr 2020) |
EndedAt: 2020-04-14 20:03:09 -0400 (Tue, 14 Apr 2020) |
EllapsedTime: 67.9 seconds |
RetCode: 0 |
Status: OK |
############################################################################## ############################################################################## ### ### Running command: ### ### C:\cygwin\bin\curl.exe -O https://malbec1.bioconductor.org/BBS/3.10/bioc/src/contrib/epivizrData_1.14.0.tar.gz && rm -rf epivizrData.buildbin-libdir && mkdir epivizrData.buildbin-libdir && C:\Users\biocbuild\bbs-3.10-bioc\R\bin\R.exe CMD INSTALL --merge-multiarch --build --library=epivizrData.buildbin-libdir epivizrData_1.14.0.tar.gz && C:\Users\biocbuild\bbs-3.10-bioc\R\bin\R.exe CMD INSTALL epivizrData_1.14.0.zip && rm epivizrData_1.14.0.tar.gz epivizrData_1.14.0.zip ### ############################################################################## ############################################################################## % Total % Received % Xferd Average Speed Time Time Time Current Dload Upload Total Spent Left Speed 0 0 0 0 0 0 0 0 --:--:-- --:--:-- --:--:-- 0 100 32552 100 32552 0 0 205k 0 --:--:-- --:--:-- --:--:-- 210k install for i386 * installing *source* package 'epivizrData' ... ** using staged installation ** R ** byte-compile and prepare package for lazy loading ** help *** installing help indices converting help for package 'epivizrData' finding HTML links ... done EpivizBlockData-class html finding level-2 HTML links ... done EpivizBpData-class html EpivizData-class html EpivizDataMgr-class html EpivizFeatureData-class html EpivizGeneInfoData-class html EpivizMeasurement-class html ahToMySQL html Rd warning: C:/Users/biocbuild/bbs-3.10-bioc/tmpdir/Rtmp4uJ6SV/R.INSTALL23ec7f8c734a/epivizrData/man/ahToMySQL.Rd:10: file link 'AnnotationHub' in package 'AnnotationHub' does not exist and so has been treated as a topic as.data.frame-EpivizData-method html as.list-EpivizMeasurement-method html createMgr html epivizrData html register html show-EpivizMeasurement-method html ** building package indices ** installing vignettes ** testing if installed package can be loaded from temporary location ** testing if installed package can be loaded from final location ** testing if installed package keeps a record of temporary installation path install for x64 * installing *source* package 'epivizrData' ... ** testing if installed package can be loaded * MD5 sums packaged installation of 'epivizrData' as epivizrData_1.14.0.zip * DONE (epivizrData) * installing to library 'C:/Users/biocbuild/bbs-3.10-bioc/R/library' package 'epivizrData' successfully unpacked and MD5 sums checked