| Back to Multiple platform build/check report for BioC 3.10 |
|
This page was generated on 2020-04-15 12:21:30 -0400 (Wed, 15 Apr 2020).
| Package 512/1823 | Hostname | OS / Arch | INSTALL | BUILD | CHECK | BUILD BIN | ||||||
| eiR 1.26.0 Thomas Girke
| malbec1 | Linux (Ubuntu 18.04.4 LTS) / x86_64 | OK | OK | OK | |||||||
| tokay1 | Windows Server 2012 R2 Standard / x64 | OK | OK | OK | [ OK ] | |||||||
| merida1 | OS X 10.11.6 El Capitan / x86_64 | OK | OK | OK | OK |
| Package: eiR |
| Version: 1.26.0 |
| Command: rm -rf eiR.buildbin-libdir && mkdir eiR.buildbin-libdir && C:\Users\biocbuild\bbs-3.10-bioc\R\bin\R.exe --arch x64 CMD INSTALL --no-multiarch --build --library=eiR.buildbin-libdir eiR_1.26.0.tar.gz |
| StartedAt: 2020-04-15 08:38:49 -0400 (Wed, 15 Apr 2020) |
| EndedAt: 2020-04-15 08:39:36 -0400 (Wed, 15 Apr 2020) |
| EllapsedTime: 47.8 seconds |
| RetCode: 0 |
| Status: OK |
| PackageFile: eiR_1.26.0.zip |
| PackageFileSize: 459.5 KiB |
##############################################################################
##############################################################################
###
### Running command:
###
### rm -rf eiR.buildbin-libdir && mkdir eiR.buildbin-libdir && C:\Users\biocbuild\bbs-3.10-bioc\R\bin\R.exe --arch x64 CMD INSTALL --no-multiarch --build --library=eiR.buildbin-libdir eiR_1.26.0.tar.gz
###
##############################################################################
##############################################################################
* installing *source* package 'eiR' ...
** using staged installation
** libs
C:/Rtools/mingw_64/bin/g++ -std=gnu++11 -I"C:/Users/biocbuild/bbs-3.10-bioc/R/include" -DNDEBUG -I"C:/extsoft/include" -O2 -Wall -mtune=core2 -c optimFunctions.cc -o optimFunctions.o
C:/Rtools/mingw_64/bin/g++ -std=gnu++11 -shared -s -static-libgcc -o eiR.dll tmp.def optimFunctions.o -LC:/extsoft/lib/x64 -LC:/extsoft/lib -LC:/Users/biocbuild/bbs-3.10-bioc/R/bin/x64 -lR
installing to C:/Users/biocbuild/bbs-3.10-bioc/meat/eiR.buildbin-libdir/00LOCK-eiR/00new/eiR/libs/x64
** R
** data
** inst
** byte-compile and prepare package for lazy loading
** help
*** installing help indices
converting help for package 'eiR'
finding HTML links ... done
addTransform html
eiAdd html
eiCluster html
eiInit html
finding level-2 HTML links ... done
eiMakeDb html
eiPerformanceTest html
eiQuery html
example_compounds html
freeLSHData html
loadLSHData html
setDefaultDistance html
** building package indices
** installing vignettes
** testing if installed package can be loaded from temporary location
** testing if installed package can be loaded from final location
** testing if installed package keeps a record of temporary installation path
* MD5 sums
packaged installation of 'eiR' as eiR_1.26.0.zip
* DONE (eiR)