| Back to Multiple platform build/check report for BioC 3.10 |
|
This page was generated on 2020-04-15 12:11:45 -0400 (Wed, 15 Apr 2020).
| Package 509/1823 | Hostname | OS / Arch | INSTALL | BUILD | CHECK | BUILD BIN | ||||||
| eegc 1.12.0 Xiaoyuan Zhou
| malbec1 | Linux (Ubuntu 18.04.4 LTS) / x86_64 | OK | [ OK ] | WARNINGS | |||||||
| tokay1 | Windows Server 2012 R2 Standard / x64 | OK | OK | WARNINGS | OK | |||||||
| merida1 | OS X 10.11.6 El Capitan / x86_64 | OK | OK | WARNINGS | OK |
| Package: eegc |
| Version: 1.12.0 |
| Command: /home/biocbuild/bbs-3.10-bioc/R/bin/R CMD build --keep-empty-dirs --no-resave-data eegc |
| StartedAt: 2020-04-14 22:09:52 -0400 (Tue, 14 Apr 2020) |
| EndedAt: 2020-04-14 22:13:09 -0400 (Tue, 14 Apr 2020) |
| EllapsedTime: 196.3 seconds |
| RetCode: 0 |
| Status: OK |
| PackageFile: eegc_1.12.0.tar.gz |
| PackageFileSize: 8.948 MiB |
##############################################################################
##############################################################################
###
### Running command:
###
### /home/biocbuild/bbs-3.10-bioc/R/bin/R CMD build --keep-empty-dirs --no-resave-data eegc
###
##############################################################################
##############################################################################
* checking for file ‘eegc/DESCRIPTION’ ... OK
* preparing ‘eegc’:
* checking DESCRIPTION meta-information ... OK
* installing the package to build vignettes
* creating vignettes ... OK
Warning: ‘inst/doc’ file
‘eegc.pdf’
ignored as vignettes have been rebuilt.
Run R CMD build with --no-build-vignettes to prevent rebuilding.
* checking for LF line-endings in source and make files and shell scripts
* checking for empty or unneeded directories
* looking to see if a ‘data/datalist’ file should be added
* building ‘eegc_1.12.0.tar.gz’