| Back to Multiple platform build/check report for BioC 3.10 |
|
This page was generated on 2020-04-15 12:10:29 -0400 (Wed, 15 Apr 2020).
| Package 493/1823 | Hostname | OS / Arch | INSTALL | BUILD | CHECK | BUILD BIN | ||||||
| dupRadar 1.16.0 Sergi Sayols
| malbec1 | Linux (Ubuntu 18.04.4 LTS) / x86_64 | OK | [ OK ] | OK | |||||||
| tokay1 | Windows Server 2012 R2 Standard / x64 | ...NOT SUPPORTED... | ||||||||||
| merida1 | OS X 10.11.6 El Capitan / x86_64 | OK | OK | OK | OK | |||||||
| Package: dupRadar |
| Version: 1.16.0 |
| Command: /home/biocbuild/bbs-3.10-bioc/R/bin/R CMD build --keep-empty-dirs --no-resave-data dupRadar |
| StartedAt: 2020-04-14 21:34:41 -0400 (Tue, 14 Apr 2020) |
| EndedAt: 2020-04-14 21:35:12 -0400 (Tue, 14 Apr 2020) |
| EllapsedTime: 31.1 seconds |
| RetCode: 0 |
| Status: OK |
| PackageFile: dupRadar_1.16.0.tar.gz |
| PackageFileSize: 3.704 MiB |
############################################################################## ############################################################################## ### ### Running command: ### ### /home/biocbuild/bbs-3.10-bioc/R/bin/R CMD build --keep-empty-dirs --no-resave-data dupRadar ### ############################################################################## ############################################################################## * checking for file ‘dupRadar/DESCRIPTION’ ... OK * preparing ‘dupRadar’: * checking DESCRIPTION meta-information ... OK * installing the package to build vignettes * creating vignettes ... OK * checking for LF line-endings in source and make files and shell scripts * checking for empty or unneeded directories * looking to see if a ‘data/datalist’ file should be added * building ‘dupRadar_1.16.0.tar.gz’