| Back to Multiple platform build/check report for BioC 3.10 |
|
This page was generated on 2020-04-15 12:23:47 -0400 (Wed, 15 Apr 2020).
| Package 441/1823 | Hostname | OS / Arch | INSTALL | BUILD | CHECK | BUILD BIN | ||||||
| derfinderPlot 1.20.0 Leonardo Collado-Torres
| malbec1 | Linux (Ubuntu 18.04.4 LTS) / x86_64 | OK | OK | OK | |||||||
| tokay1 | Windows Server 2012 R2 Standard / x64 | OK | OK | OK | [ OK ] | |||||||
| merida1 | OS X 10.11.6 El Capitan / x86_64 | OK | OK | OK | OK |
| Package: derfinderPlot |
| Version: 1.20.0 |
| Command: rm -rf derfinderPlot.buildbin-libdir && mkdir derfinderPlot.buildbin-libdir && C:\Users\biocbuild\bbs-3.10-bioc\R\bin\R.exe CMD INSTALL --merge-multiarch --build --library=derfinderPlot.buildbin-libdir derfinderPlot_1.20.0.tar.gz |
| StartedAt: 2020-04-15 08:34:52 -0400 (Wed, 15 Apr 2020) |
| EndedAt: 2020-04-15 08:36:16 -0400 (Wed, 15 Apr 2020) |
| EllapsedTime: 83.2 seconds |
| RetCode: 0 |
| Status: OK |
| PackageFile: derfinderPlot_1.20.0.zip |
| PackageFileSize: 837.4 KiB |
##############################################################################
##############################################################################
###
### Running command:
###
### rm -rf derfinderPlot.buildbin-libdir && mkdir derfinderPlot.buildbin-libdir && C:\Users\biocbuild\bbs-3.10-bioc\R\bin\R.exe CMD INSTALL --merge-multiarch --build --library=derfinderPlot.buildbin-libdir derfinderPlot_1.20.0.tar.gz
###
##############################################################################
##############################################################################
install for i386
* installing *source* package 'derfinderPlot' ...
** using staged installation
** R
** inst
** byte-compile and prepare package for lazy loading
** help
*** installing help indices
converting help for package 'derfinderPlot'
finding HTML links ... done
derfinderPlot-package html
plotCluster html
plotOverview html
plotRegionCoverage html
vennRegions html
** building package indices
** installing vignettes
** testing if installed package can be loaded from temporary location
** testing if installed package can be loaded from final location
** testing if installed package keeps a record of temporary installation path
install for x64
* installing *source* package 'derfinderPlot' ...
** testing if installed package can be loaded
* MD5 sums
packaged installation of 'derfinderPlot' as derfinderPlot_1.20.0.zip
* DONE (derfinderPlot)