| Back to Multiple platform build/check report for BioC 3.10 |
|
This page was generated on 2020-04-15 12:23:47 -0400 (Wed, 15 Apr 2020).
| Package 440/1823 | Hostname | OS / Arch | INSTALL | BUILD | CHECK | BUILD BIN | ||||||
| derfinderHelper 1.20.0 Leonardo Collado-Torres
| malbec1 | Linux (Ubuntu 18.04.4 LTS) / x86_64 | OK | OK | OK | |||||||
| tokay1 | Windows Server 2012 R2 Standard / x64 | OK | OK | OK | [ OK ] | |||||||
| merida1 | OS X 10.11.6 El Capitan / x86_64 | OK | OK | OK | OK |
| Package: derfinderHelper |
| Version: 1.20.0 |
| Command: rm -rf derfinderHelper.buildbin-libdir && mkdir derfinderHelper.buildbin-libdir && C:\Users\biocbuild\bbs-3.10-bioc\R\bin\R.exe CMD INSTALL --merge-multiarch --build --library=derfinderHelper.buildbin-libdir derfinderHelper_1.20.0.tar.gz |
| StartedAt: 2020-04-15 08:34:49 -0400 (Wed, 15 Apr 2020) |
| EndedAt: 2020-04-15 08:35:16 -0400 (Wed, 15 Apr 2020) |
| EllapsedTime: 27.8 seconds |
| RetCode: 0 |
| Status: OK |
| PackageFile: derfinderHelper_1.20.0.zip |
| PackageFileSize: 316.2 KiB |
##############################################################################
##############################################################################
###
### Running command:
###
### rm -rf derfinderHelper.buildbin-libdir && mkdir derfinderHelper.buildbin-libdir && C:\Users\biocbuild\bbs-3.10-bioc\R\bin\R.exe CMD INSTALL --merge-multiarch --build --library=derfinderHelper.buildbin-libdir derfinderHelper_1.20.0.tar.gz
###
##############################################################################
##############################################################################
install for i386
* installing *source* package 'derfinderHelper' ...
** using staged installation
** R
** inst
** byte-compile and prepare package for lazy loading
** help
*** installing help indices
converting help for package 'derfinderHelper'
finding HTML links ... done
derfinderHelper-package html
fstats.apply html
** building package indices
** installing vignettes
** testing if installed package can be loaded from temporary location
** testing if installed package can be loaded from final location
** testing if installed package keeps a record of temporary installation path
install for x64
* installing *source* package 'derfinderHelper' ...
** testing if installed package can be loaded
* MD5 sums
packaged installation of 'derfinderHelper' as derfinderHelper_1.20.0.zip
* DONE (derfinderHelper)