| Back to Multiple platform build/check report for BioC 3.10 |
|
This page was generated on 2020-04-15 12:16:09 -0400 (Wed, 15 Apr 2020).
| Package 432/1823 | Hostname | OS / Arch | INSTALL | BUILD | CHECK | BUILD BIN | ||||||
| deltaCaptureC 1.0.0 Michael Shapiro
| malbec1 | Linux (Ubuntu 18.04.4 LTS) / x86_64 | OK | OK | [ OK ] | |||||||
| tokay1 | Windows Server 2012 R2 Standard / x64 | OK | OK | OK | OK | |||||||
| merida1 | OS X 10.11.6 El Capitan / x86_64 | OK | OK | OK | OK |
| Package: deltaCaptureC |
| Version: 1.0.0 |
| Command: /home/biocbuild/bbs-3.10-bioc/R/bin/R CMD check --install=check:deltaCaptureC.install-out.txt --library=/home/biocbuild/bbs-3.10-bioc/R/library --no-vignettes --timings deltaCaptureC_1.0.0.tar.gz |
| StartedAt: 2020-04-15 06:51:11 -0400 (Wed, 15 Apr 2020) |
| EndedAt: 2020-04-15 06:57:07 -0400 (Wed, 15 Apr 2020) |
| EllapsedTime: 356.0 seconds |
| RetCode: 0 |
| Status: OK |
| CheckDir: deltaCaptureC.Rcheck |
| Warnings: 0 |
##############################################################################
##############################################################################
###
### Running command:
###
### /home/biocbuild/bbs-3.10-bioc/R/bin/R CMD check --install=check:deltaCaptureC.install-out.txt --library=/home/biocbuild/bbs-3.10-bioc/R/library --no-vignettes --timings deltaCaptureC_1.0.0.tar.gz
###
##############################################################################
##############################################################################
* using log directory ‘/home/biocbuild/bbs-3.10-bioc/meat/deltaCaptureC.Rcheck’
* using R version 3.6.3 (2020-02-29)
* using platform: x86_64-pc-linux-gnu (64-bit)
* using session charset: UTF-8
* using option ‘--no-vignettes’
* checking for file ‘deltaCaptureC/DESCRIPTION’ ... OK
* this is package ‘deltaCaptureC’ version ‘1.0.0’
* package encoding: UTF-8
* checking package namespace information ... OK
* checking package dependencies ... OK
* checking if this is a source package ... OK
* checking if there is a namespace ... OK
* checking for hidden files and directories ... OK
* checking for portable file names ... OK
* checking for sufficient/correct file permissions ... OK
* checking whether package ‘deltaCaptureC’ can be installed ... OK
* checking installed package size ... OK
* checking package directory ... OK
* checking ‘build’ directory ... OK
* checking DESCRIPTION meta-information ... OK
* checking top-level files ... OK
* checking for left-over files ... OK
* checking index information ... OK
* checking package subdirectories ... OK
* checking R files for non-ASCII characters ... OK
* checking R files for syntax errors ... OK
* checking whether the package can be loaded ... OK
* checking whether the package can be loaded with stated dependencies ... OK
* checking whether the package can be unloaded cleanly ... OK
* checking whether the namespace can be loaded with stated dependencies ... OK
* checking whether the namespace can be unloaded cleanly ... OK
* checking dependencies in R code ... OK
* checking S3 generic/method consistency ... OK
* checking replacement functions ... OK
* checking foreign function calls ... OK
* checking R code for possible problems ... NOTE
getDeltaSE: warning in SummarizedExperiment(assay = list(delta =
delta), colData = colData): partial argument match of 'assay' to
'assays'
plotSignificantRegions: no visible binding for global variable ‘ctr’
plotSignificantRegions: no visible binding for global variable ‘delta’
plotSignificantRegions: no visible binding for global variable
‘significance’
Undefined global functions or variables:
ctr delta significance
* checking Rd files ... OK
* checking Rd metadata ... OK
* checking Rd cross-references ... OK
* checking for missing documentation entries ... OK
* checking for code/documentation mismatches ... OK
* checking Rd \usage sections ... OK
* checking Rd contents ... OK
* checking for unstated dependencies in examples ... OK
* checking contents of ‘data’ directory ... OK
* checking data for non-ASCII characters ... OK
* checking data for ASCII and uncompressed saves ... OK
* checking files in ‘vignettes’ ... OK
* checking examples ... OK
Examples with CPU or elapsed time > 5s
user system elapsed
binSummarizedExperiment 132.388 0.020 133.017
getOverlapWeights 17.052 0.008 17.144
* checking for unstated dependencies in vignettes ... OK
* checking package vignettes in ‘inst/doc’ ... OK
* checking running R code from vignettes ... SKIPPED
* checking re-building of vignette outputs ... SKIPPED
* checking PDF version of manual ... OK
* DONE
Status: 1 NOTE
See
‘/home/biocbuild/bbs-3.10-bioc/meat/deltaCaptureC.Rcheck/00check.log’
for details.
deltaCaptureC.Rcheck/00install.out
############################################################################## ############################################################################## ### ### Running command: ### ### /home/biocbuild/bbs-3.10-bioc/R/bin/R CMD INSTALL deltaCaptureC ### ############################################################################## ############################################################################## * installing to library ‘/home/biocbuild/bbs-3.10-bioc/R/library’ * installing *source* package ‘deltaCaptureC’ ... ** using staged installation ** R ** data *** moving datasets to lazyload DB ** byte-compile and prepare package for lazy loading ** help *** installing help indices ** building package indices ** installing vignettes ** testing if installed package can be loaded from temporary location ** testing if installed package can be loaded from final location ** testing if installed package keeps a record of temporary installation path * DONE (deltaCaptureC)
deltaCaptureC.Rcheck/deltaCaptureC-Ex.timings
| name | user | system | elapsed | |
| binSummarizedExperiment | 132.388 | 0.020 | 133.017 | |
| downshiftDFtoMatrix | 0.000 | 0.004 | 0.003 | |
| generatePermutation | 0.028 | 0.000 | 0.029 | |
| getDeltaSE | 0.416 | 0.000 | 0.416 | |
| getLopsidedness | 0.124 | 0.000 | 0.124 | |
| getMeanNormalizedCountsSE | 0.224 | 0.004 | 0.234 | |
| getNormalizedCountsSE | 0.160 | 0.000 | 0.159 | |
| getOverlapWeights | 17.052 | 0.008 | 17.144 | |
| getPValueCutoff | 0.000 | 0.004 | 0.001 | |
| getRunTotals | 0.204 | 0.000 | 0.204 | |
| getSizeFactorsDF | 0.004 | 0.000 | 0.004 | |
| getSizeFactorsSE | 0.016 | 0.000 | 0.013 | |
| plotSignificantRegions | 0.036 | 0.000 | 0.037 | |
| rebinToMultiple | 0.696 | 0.000 | 0.695 | |