| Back to Multiple platform build/check report for BioC 3.10 |
|
This page was generated on 2020-04-15 12:31:33 -0400 (Wed, 15 Apr 2020).
| Package 419/1823 | Hostname | OS / Arch | INSTALL | BUILD | CHECK | BUILD BIN | ||||||
| decompTumor2Sig 2.2.0 Rosario M. Piro
| malbec1 | Linux (Ubuntu 18.04.4 LTS) / x86_64 | OK | OK | OK | |||||||
| tokay1 | Windows Server 2012 R2 Standard / x64 | OK | OK | OK | [ OK ] | |||||||
| merida1 | OS X 10.11.6 El Capitan / x86_64 | OK | OK | OK | OK |
| Package: decompTumor2Sig |
| Version: 2.2.0 |
| Command: rm -rf decompTumor2Sig.buildbin-libdir && mkdir decompTumor2Sig.buildbin-libdir && C:\Users\biocbuild\bbs-3.10-bioc\R\bin\R.exe CMD INSTALL --merge-multiarch --build --library=decompTumor2Sig.buildbin-libdir decompTumor2Sig_2.2.0.tar.gz |
| StartedAt: 2020-04-15 08:32:51 -0400 (Wed, 15 Apr 2020) |
| EndedAt: 2020-04-15 08:34:22 -0400 (Wed, 15 Apr 2020) |
| EllapsedTime: 90.8 seconds |
| RetCode: 0 |
| Status: OK |
| PackageFile: decompTumor2Sig_2.2.0.zip |
| PackageFileSize: 2.482 MiB |
##############################################################################
##############################################################################
###
### Running command:
###
### rm -rf decompTumor2Sig.buildbin-libdir && mkdir decompTumor2Sig.buildbin-libdir && C:\Users\biocbuild\bbs-3.10-bioc\R\bin\R.exe CMD INSTALL --merge-multiarch --build --library=decompTumor2Sig.buildbin-libdir decompTumor2Sig_2.2.0.tar.gz
###
##############################################################################
##############################################################################
install for i386
* installing *source* package 'decompTumor2Sig' ...
** using staged installation
** R
** inst
** byte-compile and prepare package for lazy loading
** help
*** installing help indices
converting help for package 'decompTumor2Sig'
finding HTML links ... done
QPforSig html
addBestSignatureToSubset html
buildGenomesFromMutationData html
buildSortedAlexandrovSignaturePatternList
html
composeGenomesFromExposures html
computeExplainedVariance html
computeFrobeniusNorm html
computeRSS html
convAlx2Shi html
convertAlexandrov2Shiraishi html
convertGenomesFromVRanges html
decompTumor2Sig-package html
decomposeTumorGenomes html
determineSignatureDistances html
determineTypeNumBasesAndTrDir html
downgradeShiraishiSignatures html
evaluateDecompositionQuality html
getBestDecomp4Ksignatures html
getCountData html
getFeatVectList html
getGenomesFromMutFeatData html
getNumFlankingBases html
getNumSignatures html
getSampleList html
getSigFeatDist html
getSigFromEstParam html
getSigType html
getSignaturesFromEstParam html
haveTrDir html
is.probability.data.frame html
is.probability.data.frame.list html
is.probability.matrix html
is.probability.matrix.list html
is.probability.object html
is.probability.vector html
is.probability.vector.list html
isAlexandrovSet html
isBackGround html
isEstParamObject html
isExposureSet html
isMutFeatDataObject html
isShiraishiSet html
isSignatureSet html
mapSignatureSets html
plotAlexandrovModel html
plotDecomposedContribution html
plotExplainedVariance html
plotMutationDistribution html
plotShiraishiModel html
processMultipleSigSets html
readAlexandrovSignatures html
readGenomesFromMPF html
readGenomesFromVCF html
readShiraishiSignatures html
roundIntegerSum html
sameSignatureFormat html
setNames4ShiraishiTable html
setNumFlankingBases html
setSigFeatDist html
setSigType html
setTrDir html
** building package indices
** installing vignettes
** testing if installed package can be loaded from temporary location
** testing if installed package can be loaded from final location
** testing if installed package keeps a record of temporary installation path
install for x64
* installing *source* package 'decompTumor2Sig' ...
** testing if installed package can be loaded
* MD5 sums
packaged installation of 'decompTumor2Sig' as decompTumor2Sig_2.2.0.zip
* DONE (decompTumor2Sig)