| Back to Multiple platform build/check report for BioC 3.10 |
|
This page was generated on 2020-04-15 12:32:22 -0400 (Wed, 15 Apr 2020).
| Package 409/1823 | Hostname | OS / Arch | INSTALL | BUILD | CHECK | BUILD BIN | ||||||
| dcanr 1.2.0 Dharmesh D. Bhuva
| malbec1 | Linux (Ubuntu 18.04.4 LTS) / x86_64 | OK | OK | OK | |||||||
| tokay1 | Windows Server 2012 R2 Standard / x64 | OK | OK | OK | [ OK ] | |||||||
| merida1 | OS X 10.11.6 El Capitan / x86_64 | OK | OK | OK | OK |
| Package: dcanr |
| Version: 1.2.0 |
| Command: rm -rf dcanr.buildbin-libdir && mkdir dcanr.buildbin-libdir && C:\Users\biocbuild\bbs-3.10-bioc\R\bin\R.exe CMD INSTALL --merge-multiarch --build --library=dcanr.buildbin-libdir dcanr_1.2.0.tar.gz |
| StartedAt: 2020-04-15 08:32:16 -0400 (Wed, 15 Apr 2020) |
| EndedAt: 2020-04-15 08:32:43 -0400 (Wed, 15 Apr 2020) |
| EllapsedTime: 27.6 seconds |
| RetCode: 0 |
| Status: OK |
| PackageFile: dcanr_1.2.0.zip |
| PackageFileSize: 1.294 MiB |
##############################################################################
##############################################################################
###
### Running command:
###
### rm -rf dcanr.buildbin-libdir && mkdir dcanr.buildbin-libdir && C:\Users\biocbuild\bbs-3.10-bioc\R\bin\R.exe CMD INSTALL --merge-multiarch --build --library=dcanr.buildbin-libdir dcanr_1.2.0.tar.gz
###
##############################################################################
##############################################################################
install for i386
* installing *source* package 'dcanr' ...
** using staged installation
It is recommended to use 'given' instead of 'middle'.
** R
** data
** inst
** byte-compile and prepare package for lazy loading
in method for 'dcScore' with signature '"Matrix","ANY","ANY"': no definition for class "Matrix"
in method for 'dcScore' with signature '"ExpressionSet","ANY","ANY"': no definition for class "ExpressionSet"
in method for 'dcScore' with signature '"SummarizedExperiment","ANY","ANY"': no definition for class "SummarizedExperiment"
in method for 'dcScore' with signature '"DGEList","ANY","ANY"': no definition for class "DGEList"
** help
*** installing help indices
converting help for package 'dcanr'
finding HTML links ... done
cor.pairs html
dcAdjust html
dcEvaluate html
dcMethods html
dcNetwork html
dcPipeline html
dcScore html
dcTest html
dcanr-package html
getSimData html
mi.ap html
perfMethods html
performanceMeasure html
plotSimNetwork html
sim102 html
** building package indices
** installing vignettes
** testing if installed package can be loaded from temporary location
** testing if installed package can be loaded from final location
** testing if installed package keeps a record of temporary installation path
install for x64
* installing *source* package 'dcanr' ...
** testing if installed package can be loaded
* MD5 sums
packaged installation of 'dcanr' as dcanr_1.2.0.zip
* DONE (dcanr)