| Back to Multiple platform build/check report for BioC 3.10 |
|
This page was generated on 2020-04-15 12:44:01 -0400 (Wed, 15 Apr 2020).
| Package 392/1823 | Hostname | OS / Arch | INSTALL | BUILD | CHECK | BUILD BIN | ||||||
| ctsGE 1.12.0 Michal Sharabi-Schwager
| malbec1 | Linux (Ubuntu 18.04.4 LTS) / x86_64 | OK | OK | OK | |||||||
| tokay1 | Windows Server 2012 R2 Standard / x64 | OK | OK | OK | OK | |||||||
| merida1 | OS X 10.11.6 El Capitan / x86_64 | OK | [ OK ] | OK | OK |
| Package: ctsGE |
| Version: 1.12.0 |
| Command: /Library/Frameworks/R.framework/Versions/Current/Resources/bin/R CMD build --keep-empty-dirs --no-resave-data ctsGE |
| StartedAt: 2020-04-14 22:11:41 -0400 (Tue, 14 Apr 2020) |
| EndedAt: 2020-04-14 22:12:04 -0400 (Tue, 14 Apr 2020) |
| EllapsedTime: 23.4 seconds |
| RetCode: 0 |
| Status: OK |
| PackageFile: ctsGE_1.12.0.tar.gz |
| PackageFileSize: 1.134 MiB |
##############################################################################
##############################################################################
###
### Running command:
###
### /Library/Frameworks/R.framework/Versions/Current/Resources/bin/R CMD build --keep-empty-dirs --no-resave-data ctsGE
###
##############################################################################
##############################################################################
* checking for file ‘ctsGE/DESCRIPTION’ ... OK
* preparing ‘ctsGE’:
* checking DESCRIPTION meta-information ... OK
* installing the package to build vignettes
* creating vignettes ... OK
Warning: ‘inst/doc’ file
‘ctsGE.html’
ignored as vignettes have been rebuilt.
Run R CMD build with --no-build-vignettes to prevent rebuilding.
* checking for LF line-endings in source and make files and shell scripts
* checking for empty or unneeded directories
* building ‘ctsGE_1.12.0.tar.gz’