| Back to Multiple platform build/check report for BioC 3.10 |
|
This page was generated on 2020-04-15 12:23:56 -0400 (Wed, 15 Apr 2020).
| Package 387/1823 | Hostname | OS / Arch | INSTALL | BUILD | CHECK | BUILD BIN | ||||||
| csaw 1.20.0 Aaron Lun
| malbec1 | Linux (Ubuntu 18.04.4 LTS) / x86_64 | OK | OK | WARNINGS | |||||||
| tokay1 | Windows Server 2012 R2 Standard / x64 | OK | OK | WARNINGS | [ OK ] | |||||||
| merida1 | OS X 10.11.6 El Capitan / x86_64 | OK | OK | WARNINGS | OK |
| Package: csaw |
| Version: 1.20.0 |
| Command: rm -rf csaw.buildbin-libdir && mkdir csaw.buildbin-libdir && C:\Users\biocbuild\bbs-3.10-bioc\R\bin\R.exe CMD INSTALL --merge-multiarch --build --library=csaw.buildbin-libdir csaw_1.20.0.tar.gz |
| StartedAt: 2020-04-15 08:31:01 -0400 (Wed, 15 Apr 2020) |
| EndedAt: 2020-04-15 08:34:38 -0400 (Wed, 15 Apr 2020) |
| EllapsedTime: 217.6 seconds |
| RetCode: 0 |
| Status: OK |
| PackageFile: csaw_1.20.0.zip |
| PackageFileSize: 3.724 MiB |
##############################################################################
##############################################################################
###
### Running command:
###
### rm -rf csaw.buildbin-libdir && mkdir csaw.buildbin-libdir && C:\Users\biocbuild\bbs-3.10-bioc\R\bin\R.exe CMD INSTALL --merge-multiarch --build --library=csaw.buildbin-libdir csaw_1.20.0.tar.gz
###
##############################################################################
##############################################################################
install for i386
* installing *source* package 'csaw' ...
** using staged installation
** libs
C:/Rtools/mingw_32/bin/g++ -std=gnu++11 -I"C:/Users/BIOCBU~1/BBS-3~1.10-/R/include" -DNDEBUG -D_FILE_OFFSET_BITS=64 -I"C:/Users/biocbuild/bbs-3.10-bioc/R/library/Rhtslib/include" -I"C:/Users/biocbuild/bbs-3.10-bioc/R/library/zlibbioc/include" -I"C:/Users/biocbuild/bbs-3.10-bioc/R/library/Rcpp/include" -I"C:/extsoft/include" -O2 -Wall -mtune=core2 -c annotator.cpp -o annotator.o
annotator.cpp: In function 'SEXPREC* annotate_overlaps(SEXP, SEXP, SEXP, SEXP, SEXP, SEXP, SEXP, SEXP)':
annotator.cpp:47:24: warning: comparison between signed and unsigned integer expressions [-Wsign-compare]
while (counter < nolaps && query[counter]==curreg) {
^
C:/Rtools/mingw_32/bin/g++ -std=gnu++11 -I"C:/Users/BIOCBU~1/BBS-3~1.10-/R/include" -DNDEBUG -D_FILE_OFFSET_BITS=64 -I"C:/Users/biocbuild/bbs-3.10-bioc/R/library/Rhtslib/include" -I"C:/Users/biocbuild/bbs-3.10-bioc/R/library/zlibbioc/include" -I"C:/Users/biocbuild/bbs-3.10-bioc/R/library/Rcpp/include" -I"C:/extsoft/include" -O2 -Wall -mtune=core2 -c bam_utils.cpp -o bam_utils.o
C:/Rtools/mingw_32/bin/g++ -std=gnu++11 -I"C:/Users/BIOCBU~1/BBS-3~1.10-/R/include" -DNDEBUG -D_FILE_OFFSET_BITS=64 -I"C:/Users/biocbuild/bbs-3.10-bioc/R/library/Rhtslib/include" -I"C:/Users/biocbuild/bbs-3.10-bioc/R/library/zlibbioc/include" -I"C:/Users/biocbuild/bbs-3.10-bioc/R/library/Rcpp/include" -I"C:/extsoft/include" -O2 -Wall -mtune=core2 -c best_in_cluster.cpp -o best_in_cluster.o
best_in_cluster.cpp: In function 'SEXPREC* best_in_cluster(SEXP, SEXP, SEXP)':
best_in_cluster.cpp:11:10: warning: comparison between signed and unsigned integer expressions [-Wsign-compare]
if (nwin!=clustids.size() || nwin!=winweight.size()) {
^
best_in_cluster.cpp:11:35: warning: comparison between signed and unsigned integer expressions [-Wsign-compare]
if (nwin!=clustids.size() || nwin!=winweight.size()) {
^
C:/Rtools/mingw_32/bin/g++ -std=gnu++11 -I"C:/Users/BIOCBU~1/BBS-3~1.10-/R/include" -DNDEBUG -D_FILE_OFFSET_BITS=64 -I"C:/Users/biocbuild/bbs-3.10-bioc/R/library/Rhtslib/include" -I"C:/Users/biocbuild/bbs-3.10-bioc/R/library/zlibbioc/include" -I"C:/Users/biocbuild/bbs-3.10-bioc/R/library/Rcpp/include" -I"C:/extsoft/include" -O2 -Wall -mtune=core2 -c check_bimodality.cpp -o check_bimodality.o
C:/Rtools/mingw_32/bin/g++ -std=gnu++11 -I"C:/Users/BIOCBU~1/BBS-3~1.10-/R/include" -DNDEBUG -D_FILE_OFFSET_BITS=64 -I"C:/Users/biocbuild/bbs-3.10-bioc/R/library/Rhtslib/include" -I"C:/Users/biocbuild/bbs-3.10-bioc/R/library/zlibbioc/include" -I"C:/Users/biocbuild/bbs-3.10-bioc/R/library/Rcpp/include" -I"C:/extsoft/include" -O2 -Wall -mtune=core2 -c correlate_reads.cpp -o correlate_reads.o
C:/Rtools/mingw_32/bin/g++ -std=gnu++11 -I"C:/Users/BIOCBU~1/BBS-3~1.10-/R/include" -DNDEBUG -D_FILE_OFFSET_BITS=64 -I"C:/Users/biocbuild/bbs-3.10-bioc/R/library/Rhtslib/include" -I"C:/Users/biocbuild/bbs-3.10-bioc/R/library/zlibbioc/include" -I"C:/Users/biocbuild/bbs-3.10-bioc/R/library/Rcpp/include" -I"C:/extsoft/include" -O2 -Wall -mtune=core2 -c find_maxima.cpp -o find_maxima.o
C:/Rtools/mingw_32/bin/g++ -std=gnu++11 -I"C:/Users/BIOCBU~1/BBS-3~1.10-/R/include" -DNDEBUG -D_FILE_OFFSET_BITS=64 -I"C:/Users/biocbuild/bbs-3.10-bioc/R/library/Rhtslib/include" -I"C:/Users/biocbuild/bbs-3.10-bioc/R/library/zlibbioc/include" -I"C:/Users/biocbuild/bbs-3.10-bioc/R/library/Rcpp/include" -I"C:/extsoft/include" -O2 -Wall -mtune=core2 -c get_cluster_stats.cpp -o get_cluster_stats.o
get_cluster_stats.cpp: In function 'SEXPREC* get_cluster_stats(SEXP, SEXP, SEXP, SEXP, SEXP)':
get_cluster_stats.cpp:17:11: warning: comparison between signed and unsigned integer expressions [-Wsign-compare]
if (nwin!=current.size()) {
^
get_cluster_stats.cpp:28:23: warning: comparison between signed and unsigned integer expressions [-Wsign-compare]
if (clustid.size()!=nwin) {
^
get_cluster_stats.cpp:33:10: warning: comparison between signed and unsigned integer expressions [-Wsign-compare]
if (nwin!=winweight.size()) {
^
C:/Rtools/mingw_32/bin/g++ -std=gnu++11 -I"C:/Users/BIOCBU~1/BBS-3~1.10-/R/include" -DNDEBUG -D_FILE_OFFSET_BITS=64 -I"C:/Users/biocbuild/bbs-3.10-bioc/R/library/Rhtslib/include" -I"C:/Users/biocbuild/bbs-3.10-bioc/R/library/zlibbioc/include" -I"C:/Users/biocbuild/bbs-3.10-bioc/R/library/Rcpp/include" -I"C:/extsoft/include" -O2 -Wall -mtune=core2 -c get_profile.cpp -o get_profile.o
C:/Rtools/mingw_32/bin/g++ -std=gnu++11 -I"C:/Users/BIOCBU~1/BBS-3~1.10-/R/include" -DNDEBUG -D_FILE_OFFSET_BITS=64 -I"C:/Users/biocbuild/bbs-3.10-bioc/R/library/Rhtslib/include" -I"C:/Users/biocbuild/bbs-3.10-bioc/R/library/zlibbioc/include" -I"C:/Users/biocbuild/bbs-3.10-bioc/R/library/Rcpp/include" -I"C:/extsoft/include" -O2 -Wall -mtune=core2 -c get_rle_counts.cpp -o get_rle_counts.o
C:/Rtools/mingw_32/bin/g++ -std=gnu++11 -I"C:/Users/BIOCBU~1/BBS-3~1.10-/R/include" -DNDEBUG -D_FILE_OFFSET_BITS=64 -I"C:/Users/biocbuild/bbs-3.10-bioc/R/library/Rhtslib/include" -I"C:/Users/biocbuild/bbs-3.10-bioc/R/library/zlibbioc/include" -I"C:/Users/biocbuild/bbs-3.10-bioc/R/library/Rcpp/include" -I"C:/extsoft/include" -O2 -Wall -mtune=core2 -c init.cpp -o init.o
C:/Rtools/mingw_32/bin/g++ -std=gnu++11 -I"C:/Users/BIOCBU~1/BBS-3~1.10-/R/include" -DNDEBUG -D_FILE_OFFSET_BITS=64 -I"C:/Users/biocbuild/bbs-3.10-bioc/R/library/Rhtslib/include" -I"C:/Users/biocbuild/bbs-3.10-bioc/R/library/zlibbioc/include" -I"C:/Users/biocbuild/bbs-3.10-bioc/R/library/Rcpp/include" -I"C:/extsoft/include" -O2 -Wall -mtune=core2 -c intersector.cpp -o intersector.o
intersector.cpp: In constructor 'intersector::intersector(SEXP, SEXP)':
intersector.cpp:8:10: warning: comparison between signed and unsigned integer expressions [-Wsign-compare]
if (N!=elements.size()) {
^
intersector.cpp:32:36: warning: comparison between signed and unsigned integer expressions [-Wsign-compare]
if (current < 0 || current >= nelements) {
^
C:/Rtools/mingw_32/bin/g++ -std=gnu++11 -I"C:/Users/BIOCBU~1/BBS-3~1.10-/R/include" -DNDEBUG -D_FILE_OFFSET_BITS=64 -I"C:/Users/biocbuild/bbs-3.10-bioc/R/library/Rhtslib/include" -I"C:/Users/biocbuild/bbs-3.10-bioc/R/library/zlibbioc/include" -I"C:/Users/biocbuild/bbs-3.10-bioc/R/library/Rcpp/include" -I"C:/extsoft/include" -O2 -Wall -mtune=core2 -c merge_windows.cpp -o merge_windows.o
C:/Rtools/mingw_32/bin/g++ -std=gnu++11 -I"C:/Users/BIOCBU~1/BBS-3~1.10-/R/include" -DNDEBUG -D_FILE_OFFSET_BITS=64 -I"C:/Users/biocbuild/bbs-3.10-bioc/R/library/Rhtslib/include" -I"C:/Users/biocbuild/bbs-3.10-bioc/R/library/zlibbioc/include" -I"C:/Users/biocbuild/bbs-3.10-bioc/R/library/Rcpp/include" -I"C:/extsoft/include" -O2 -Wall -mtune=core2 -c pair_reads.cpp -o pair_reads.o
C:/Rtools/mingw_32/bin/g++ -std=gnu++11 -I"C:/Users/BIOCBU~1/BBS-3~1.10-/R/include" -DNDEBUG -D_FILE_OFFSET_BITS=64 -I"C:/Users/biocbuild/bbs-3.10-bioc/R/library/Rhtslib/include" -I"C:/Users/biocbuild/bbs-3.10-bioc/R/library/zlibbioc/include" -I"C:/Users/biocbuild/bbs-3.10-bioc/R/library/Rcpp/include" -I"C:/extsoft/include" -O2 -Wall -mtune=core2 -c single_reads.cpp -o single_reads.o
C:/Rtools/mingw_32/bin/g++ -std=gnu++11 -I"C:/Users/BIOCBU~1/BBS-3~1.10-/R/include" -DNDEBUG -D_FILE_OFFSET_BITS=64 -I"C:/Users/biocbuild/bbs-3.10-bioc/R/library/Rhtslib/include" -I"C:/Users/biocbuild/bbs-3.10-bioc/R/library/zlibbioc/include" -I"C:/Users/biocbuild/bbs-3.10-bioc/R/library/Rcpp/include" -I"C:/extsoft/include" -O2 -Wall -mtune=core2 -c utils.cpp -o utils.o
C:/Rtools/mingw_32/bin/g++ -shared -s -static-libgcc -o csaw.dll tmp.def annotator.o bam_utils.o best_in_cluster.o check_bimodality.o correlate_reads.o find_maxima.o get_cluster_stats.o get_profile.o get_rle_counts.o init.o intersector.o merge_windows.o pair_reads.o single_reads.o utils.o C:/Users/biocbuild/bbs-3.10-bioc/R/library/Rhtslib/usrlib/i386/libhts.a -LC:/extsoft/lib/i386 -lcurl -lrtmp -lssl -lssh2 -lcrypto -lgdi32 -lz -lws2_32 -lwldap32 -lwinmm -lidn -LC:/extsoft/lib/i386 -LC:/extsoft/lib -LC:/Users/BIOCBU~1/BBS-3~1.10-/R/bin/i386 -lR
installing to C:/Users/biocbuild/bbs-3.10-bioc/meat/csaw.buildbin-libdir/00LOCK-csaw/00new/csaw/libs/i386
** R
** inst
** byte-compile and prepare package for lazy loading
** help
*** installing help indices
converting help for package 'csaw'
finding HTML links ... done
SEmethods html
finding level-2 HTML links ... done
calculateCPM html
checkBimodality html
clusterFDR html
clusterWindows html
clusterWindowsList html
combineTests html
consolidateTests html
correlateReads html
csawUsersGuide html
detailRanges html
empiricalFDR html
extractReads html
filterWindows html
findMaxima html
getBestTest html
getPESizes html
getWidths html
maximizeCcf html
mergeResults html
mergeResultsList html
mergeWindows html
mergeWindowsList html
mixedClusters html
normOffsets html
overlapStats html
profileSites html
readParam html
regionCounts html
scaledAverage html
strandedCounts html
upweightSummit html
windowCounts html
wwhm html
** building package indices
** installing vignettes
** testing if installed package can be loaded from temporary location
** testing if installed package can be loaded from final location
** testing if installed package keeps a record of temporary installation path
install for x64
* installing *source* package 'csaw' ...
** libs
C:/Rtools/mingw_64/bin/g++ -std=gnu++11 -I"C:/Users/BIOCBU~1/BBS-3~1.10-/R/include" -DNDEBUG -D_FILE_OFFSET_BITS=64 -I"C:/Users/biocbuild/bbs-3.10-bioc/R/library/Rhtslib/include" -I"C:/Users/biocbuild/bbs-3.10-bioc/R/library/zlibbioc/include" -I"C:/Users/biocbuild/bbs-3.10-bioc/R/library/Rcpp/include" -I"C:/extsoft/include" -O2 -Wall -mtune=core2 -c annotator.cpp -o annotator.o
annotator.cpp: In function 'SEXPREC* annotate_overlaps(SEXP, SEXP, SEXP, SEXP, SEXP, SEXP, SEXP, SEXP)':
annotator.cpp:47:24: warning: comparison between signed and unsigned integer expressions [-Wsign-compare]
while (counter < nolaps && query[counter]==curreg) {
^
C:/Rtools/mingw_64/bin/g++ -std=gnu++11 -I"C:/Users/BIOCBU~1/BBS-3~1.10-/R/include" -DNDEBUG -D_FILE_OFFSET_BITS=64 -I"C:/Users/biocbuild/bbs-3.10-bioc/R/library/Rhtslib/include" -I"C:/Users/biocbuild/bbs-3.10-bioc/R/library/zlibbioc/include" -I"C:/Users/biocbuild/bbs-3.10-bioc/R/library/Rcpp/include" -I"C:/extsoft/include" -O2 -Wall -mtune=core2 -c bam_utils.cpp -o bam_utils.o
C:/Rtools/mingw_64/bin/g++ -std=gnu++11 -I"C:/Users/BIOCBU~1/BBS-3~1.10-/R/include" -DNDEBUG -D_FILE_OFFSET_BITS=64 -I"C:/Users/biocbuild/bbs-3.10-bioc/R/library/Rhtslib/include" -I"C:/Users/biocbuild/bbs-3.10-bioc/R/library/zlibbioc/include" -I"C:/Users/biocbuild/bbs-3.10-bioc/R/library/Rcpp/include" -I"C:/extsoft/include" -O2 -Wall -mtune=core2 -c best_in_cluster.cpp -o best_in_cluster.o
best_in_cluster.cpp: In function 'SEXPREC* best_in_cluster(SEXP, SEXP, SEXP)':
best_in_cluster.cpp:11:10: warning: comparison between signed and unsigned integer expressions [-Wsign-compare]
if (nwin!=clustids.size() || nwin!=winweight.size()) {
^
best_in_cluster.cpp:11:35: warning: comparison between signed and unsigned integer expressions [-Wsign-compare]
if (nwin!=clustids.size() || nwin!=winweight.size()) {
^
C:/Rtools/mingw_64/bin/g++ -std=gnu++11 -I"C:/Users/BIOCBU~1/BBS-3~1.10-/R/include" -DNDEBUG -D_FILE_OFFSET_BITS=64 -I"C:/Users/biocbuild/bbs-3.10-bioc/R/library/Rhtslib/include" -I"C:/Users/biocbuild/bbs-3.10-bioc/R/library/zlibbioc/include" -I"C:/Users/biocbuild/bbs-3.10-bioc/R/library/Rcpp/include" -I"C:/extsoft/include" -O2 -Wall -mtune=core2 -c check_bimodality.cpp -o check_bimodality.o
C:/Rtools/mingw_64/bin/g++ -std=gnu++11 -I"C:/Users/BIOCBU~1/BBS-3~1.10-/R/include" -DNDEBUG -D_FILE_OFFSET_BITS=64 -I"C:/Users/biocbuild/bbs-3.10-bioc/R/library/Rhtslib/include" -I"C:/Users/biocbuild/bbs-3.10-bioc/R/library/zlibbioc/include" -I"C:/Users/biocbuild/bbs-3.10-bioc/R/library/Rcpp/include" -I"C:/extsoft/include" -O2 -Wall -mtune=core2 -c correlate_reads.cpp -o correlate_reads.o
C:/Rtools/mingw_64/bin/g++ -std=gnu++11 -I"C:/Users/BIOCBU~1/BBS-3~1.10-/R/include" -DNDEBUG -D_FILE_OFFSET_BITS=64 -I"C:/Users/biocbuild/bbs-3.10-bioc/R/library/Rhtslib/include" -I"C:/Users/biocbuild/bbs-3.10-bioc/R/library/zlibbioc/include" -I"C:/Users/biocbuild/bbs-3.10-bioc/R/library/Rcpp/include" -I"C:/extsoft/include" -O2 -Wall -mtune=core2 -c find_maxima.cpp -o find_maxima.o
C:/Rtools/mingw_64/bin/g++ -std=gnu++11 -I"C:/Users/BIOCBU~1/BBS-3~1.10-/R/include" -DNDEBUG -D_FILE_OFFSET_BITS=64 -I"C:/Users/biocbuild/bbs-3.10-bioc/R/library/Rhtslib/include" -I"C:/Users/biocbuild/bbs-3.10-bioc/R/library/zlibbioc/include" -I"C:/Users/biocbuild/bbs-3.10-bioc/R/library/Rcpp/include" -I"C:/extsoft/include" -O2 -Wall -mtune=core2 -c get_cluster_stats.cpp -o get_cluster_stats.o
get_cluster_stats.cpp: In function 'SEXPREC* get_cluster_stats(SEXP, SEXP, SEXP, SEXP, SEXP)':
get_cluster_stats.cpp:17:11: warning: comparison between signed and unsigned integer expressions [-Wsign-compare]
if (nwin!=current.size()) {
^
get_cluster_stats.cpp:28:23: warning: comparison between signed and unsigned integer expressions [-Wsign-compare]
if (clustid.size()!=nwin) {
^
get_cluster_stats.cpp:33:10: warning: comparison between signed and unsigned integer expressions [-Wsign-compare]
if (nwin!=winweight.size()) {
^
C:/Rtools/mingw_64/bin/g++ -std=gnu++11 -I"C:/Users/BIOCBU~1/BBS-3~1.10-/R/include" -DNDEBUG -D_FILE_OFFSET_BITS=64 -I"C:/Users/biocbuild/bbs-3.10-bioc/R/library/Rhtslib/include" -I"C:/Users/biocbuild/bbs-3.10-bioc/R/library/zlibbioc/include" -I"C:/Users/biocbuild/bbs-3.10-bioc/R/library/Rcpp/include" -I"C:/extsoft/include" -O2 -Wall -mtune=core2 -c get_profile.cpp -o get_profile.o
C:/Rtools/mingw_64/bin/g++ -std=gnu++11 -I"C:/Users/BIOCBU~1/BBS-3~1.10-/R/include" -DNDEBUG -D_FILE_OFFSET_BITS=64 -I"C:/Users/biocbuild/bbs-3.10-bioc/R/library/Rhtslib/include" -I"C:/Users/biocbuild/bbs-3.10-bioc/R/library/zlibbioc/include" -I"C:/Users/biocbuild/bbs-3.10-bioc/R/library/Rcpp/include" -I"C:/extsoft/include" -O2 -Wall -mtune=core2 -c get_rle_counts.cpp -o get_rle_counts.o
C:/Rtools/mingw_64/bin/g++ -std=gnu++11 -I"C:/Users/BIOCBU~1/BBS-3~1.10-/R/include" -DNDEBUG -D_FILE_OFFSET_BITS=64 -I"C:/Users/biocbuild/bbs-3.10-bioc/R/library/Rhtslib/include" -I"C:/Users/biocbuild/bbs-3.10-bioc/R/library/zlibbioc/include" -I"C:/Users/biocbuild/bbs-3.10-bioc/R/library/Rcpp/include" -I"C:/extsoft/include" -O2 -Wall -mtune=core2 -c init.cpp -o init.o
C:/Rtools/mingw_64/bin/g++ -std=gnu++11 -I"C:/Users/BIOCBU~1/BBS-3~1.10-/R/include" -DNDEBUG -D_FILE_OFFSET_BITS=64 -I"C:/Users/biocbuild/bbs-3.10-bioc/R/library/Rhtslib/include" -I"C:/Users/biocbuild/bbs-3.10-bioc/R/library/zlibbioc/include" -I"C:/Users/biocbuild/bbs-3.10-bioc/R/library/Rcpp/include" -I"C:/extsoft/include" -O2 -Wall -mtune=core2 -c intersector.cpp -o intersector.o
intersector.cpp: In constructor 'intersector::intersector(SEXP, SEXP)':
intersector.cpp:8:10: warning: comparison between signed and unsigned integer expressions [-Wsign-compare]
if (N!=elements.size()) {
^
intersector.cpp:32:36: warning: comparison between signed and unsigned integer expressions [-Wsign-compare]
if (current < 0 || current >= nelements) {
^
C:/Rtools/mingw_64/bin/g++ -std=gnu++11 -I"C:/Users/BIOCBU~1/BBS-3~1.10-/R/include" -DNDEBUG -D_FILE_OFFSET_BITS=64 -I"C:/Users/biocbuild/bbs-3.10-bioc/R/library/Rhtslib/include" -I"C:/Users/biocbuild/bbs-3.10-bioc/R/library/zlibbioc/include" -I"C:/Users/biocbuild/bbs-3.10-bioc/R/library/Rcpp/include" -I"C:/extsoft/include" -O2 -Wall -mtune=core2 -c merge_windows.cpp -o merge_windows.o
C:/Rtools/mingw_64/bin/g++ -std=gnu++11 -I"C:/Users/BIOCBU~1/BBS-3~1.10-/R/include" -DNDEBUG -D_FILE_OFFSET_BITS=64 -I"C:/Users/biocbuild/bbs-3.10-bioc/R/library/Rhtslib/include" -I"C:/Users/biocbuild/bbs-3.10-bioc/R/library/zlibbioc/include" -I"C:/Users/biocbuild/bbs-3.10-bioc/R/library/Rcpp/include" -I"C:/extsoft/include" -O2 -Wall -mtune=core2 -c pair_reads.cpp -o pair_reads.o
C:/Rtools/mingw_64/bin/g++ -std=gnu++11 -I"C:/Users/BIOCBU~1/BBS-3~1.10-/R/include" -DNDEBUG -D_FILE_OFFSET_BITS=64 -I"C:/Users/biocbuild/bbs-3.10-bioc/R/library/Rhtslib/include" -I"C:/Users/biocbuild/bbs-3.10-bioc/R/library/zlibbioc/include" -I"C:/Users/biocbuild/bbs-3.10-bioc/R/library/Rcpp/include" -I"C:/extsoft/include" -O2 -Wall -mtune=core2 -c single_reads.cpp -o single_reads.o
C:/Rtools/mingw_64/bin/g++ -std=gnu++11 -I"C:/Users/BIOCBU~1/BBS-3~1.10-/R/include" -DNDEBUG -D_FILE_OFFSET_BITS=64 -I"C:/Users/biocbuild/bbs-3.10-bioc/R/library/Rhtslib/include" -I"C:/Users/biocbuild/bbs-3.10-bioc/R/library/zlibbioc/include" -I"C:/Users/biocbuild/bbs-3.10-bioc/R/library/Rcpp/include" -I"C:/extsoft/include" -O2 -Wall -mtune=core2 -c utils.cpp -o utils.o
C:/Rtools/mingw_64/bin/g++ -shared -s -static-libgcc -o csaw.dll tmp.def annotator.o bam_utils.o best_in_cluster.o check_bimodality.o correlate_reads.o find_maxima.o get_cluster_stats.o get_profile.o get_rle_counts.o init.o intersector.o merge_windows.o pair_reads.o single_reads.o utils.o C:/Users/biocbuild/bbs-3.10-bioc/R/library/Rhtslib/usrlib/x64/libhts.a -LC:/extsoft/lib/x64 -lcurl -lrtmp -lssl -lssh2 -lcrypto -lgdi32 -lz -lws2_32 -lwldap32 -lwinmm -LC:/extsoft/lib/x64 -LC:/extsoft/lib -LC:/Users/BIOCBU~1/BBS-3~1.10-/R/bin/x64 -lR
installing to C:/Users/biocbuild/bbs-3.10-bioc/meat/csaw.buildbin-libdir/csaw/libs/x64
** testing if installed package can be loaded
* MD5 sums
packaged installation of 'csaw' as csaw_1.20.0.zip
* DONE (csaw)