| Back to Multiple platform build/check report for BioC 3.10 | 
 | 
This page was generated on 2020-04-15 12:44:46 -0400 (Wed, 15 Apr 2020).
| Package 369/1823 | Hostname | OS / Arch | INSTALL | BUILD | CHECK | BUILD BIN | ||||||
| coseq 1.10.0 Andrea Rau 
 | malbec1 | Linux (Ubuntu 18.04.4 LTS) / x86_64 | OK | OK | OK |  | ||||||
| tokay1 | Windows Server 2012 R2 Standard / x64 | OK | OK | OK | OK |  | ||||||
| merida1 | OS X 10.11.6 El Capitan / x86_64 | OK | OK | OK | [ OK ] |  | 
| Package: coseq | 
| Version: 1.10.0 | 
| Command: rm -rf coseq.buildbin-libdir && mkdir coseq.buildbin-libdir && /Users/biocbuild/BBS/utils/build-universal.sh coseq_1.10.0.tar.gz /Library/Frameworks/R.framework/Versions/Current/Resources/bin/R coseq.buildbin-libdir | 
| StartedAt: 2020-04-15 07:12:17 -0400 (Wed, 15 Apr 2020) | 
| EndedAt: 2020-04-15 07:13:03 -0400 (Wed, 15 Apr 2020) | 
| EllapsedTime: 46.8 seconds | 
| RetCode: 0 | 
| Status: OK | 
| PackageFile: coseq_1.10.0.tgz | 
| PackageFileSize: 1.146 MiB | 
############################################################################## ############################################################################## ### ### Running command: ### ### rm -rf coseq.buildbin-libdir && mkdir coseq.buildbin-libdir && /Users/biocbuild/BBS/utils/build-universal.sh coseq_1.10.0.tar.gz /Library/Frameworks/R.framework/Versions/Current/Resources/bin/R coseq.buildbin-libdir ### ############################################################################## ############################################################################## >>>>>>> >>>>>>> INSTALLATION WITH 'R CMD INSTALL --preclean --no-multiarch --library=coseq.buildbin-libdir coseq_1.10.0.tar.gz' >>>>>>> * installing *source* package ‘coseq’ ... ** using staged installation ** R ** data ** inst ** byte-compile and prepare package for lazy loading Creating a new generic function for ‘plot’ in package ‘coseq’ ** help *** installing help indices ** building package indices ** installing vignettes ** testing if installed package can be loaded from temporary location ** testing if installed package can be loaded from final location ** testing if installed package keeps a record of temporary installation path * DONE (coseq)