| Back to Multiple platform build/check report for BioC 3.10 |
|
This page was generated on 2020-04-15 12:45:41 -0400 (Wed, 15 Apr 2020).
| Package 354/1823 | Hostname | OS / Arch | INSTALL | BUILD | CHECK | BUILD BIN | ||||||
| consensusOV 1.8.1 Benjamin Haibe-Kains
| malbec1 | Linux (Ubuntu 18.04.4 LTS) / x86_64 | OK | OK | OK | |||||||
| tokay1 | Windows Server 2012 R2 Standard / x64 | OK | OK | OK | OK | |||||||
| merida1 | OS X 10.11.6 El Capitan / x86_64 | OK | [ OK ] | OK | OK |
| Package: consensusOV |
| Version: 1.8.1 |
| Command: /Library/Frameworks/R.framework/Versions/Current/Resources/bin/R CMD build --keep-empty-dirs --no-resave-data consensusOV |
| StartedAt: 2020-04-14 22:36:43 -0400 (Tue, 14 Apr 2020) |
| EndedAt: 2020-04-14 22:39:10 -0400 (Tue, 14 Apr 2020) |
| EllapsedTime: 146.8 seconds |
| RetCode: 0 |
| Status: OK |
| PackageFile: consensusOV_1.8.1.tar.gz |
| PackageFileSize: 3.994 MiB |
############################################################################## ############################################################################## ### ### Running command: ### ### /Library/Frameworks/R.framework/Versions/Current/Resources/bin/R CMD build --keep-empty-dirs --no-resave-data consensusOV ### ############################################################################## ############################################################################## * checking for file ‘consensusOV/DESCRIPTION’ ... OK * preparing ‘consensusOV’: * checking DESCRIPTION meta-information ... OK * installing the package to build vignettes * creating vignettes ... OK * checking for LF line-endings in source and make files and shell scripts * checking for empty or unneeded directories * looking to see if a ‘data/datalist’ file should be added * building ‘consensusOV_1.8.1.tar.gz’ Warning in utils::tar(filepath, pkgname, compression = compression, compression_level = 9L, : storing paths of more than 100 bytes is not portable: ‘consensusOV/vignettes/consensusOV_cache/html/alternative_subtyping_51ac61cdd597794770ab5c8e6d78d37c.RData’ Warning in utils::tar(filepath, pkgname, compression = compression, compression_level = 9L, : storing paths of more than 100 bytes is not portable: ‘consensusOV/vignettes/consensusOV_cache/html/alternative_subtyping_51ac61cdd597794770ab5c8e6d78d37c.rdb’ Warning in utils::tar(filepath, pkgname, compression = compression, compression_level = 9L, : storing paths of more than 100 bytes is not portable: ‘consensusOV/vignettes/consensusOV_cache/html/alternative_subtyping_51ac61cdd597794770ab5c8e6d78d37c.rdx’