| Back to Multiple platform build/check report for BioC 3.10 | 
 | 
This page was generated on 2020-04-15 12:30:53 -0400 (Wed, 15 Apr 2020).
| Package 351/1823 | Hostname | OS / Arch | INSTALL | BUILD | CHECK | BUILD BIN | ||||||
| consensus 1.4.0 Tim Peters 
 | malbec1 | Linux (Ubuntu 18.04.4 LTS) / x86_64 | OK | OK | OK |  | ||||||
| tokay1 | Windows Server 2012 R2 Standard / x64 | OK | OK | OK | [ OK ] |  | ||||||
| merida1 | OS X 10.11.6 El Capitan / x86_64 | OK | OK | OK | OK |  | 
| Package: consensus | 
| Version: 1.4.0 | 
| Command: rm -rf consensus.buildbin-libdir && mkdir consensus.buildbin-libdir && C:\Users\biocbuild\bbs-3.10-bioc\R\bin\R.exe CMD INSTALL --merge-multiarch --build --library=consensus.buildbin-libdir consensus_1.4.0.tar.gz | 
| StartedAt: 2020-04-15 08:28:36 -0400 (Wed, 15 Apr 2020) | 
| EndedAt: 2020-04-15 08:29:06 -0400 (Wed, 15 Apr 2020) | 
| EllapsedTime: 29.5 seconds | 
| RetCode: 0 | 
| Status: OK | 
| PackageFile: consensus_1.4.0.zip | 
| PackageFileSize: 1.038 MiB | 
##############################################################################
##############################################################################
###
### Running command:
###
###   rm -rf consensus.buildbin-libdir && mkdir consensus.buildbin-libdir && C:\Users\biocbuild\bbs-3.10-bioc\R\bin\R.exe CMD INSTALL --merge-multiarch --build --library=consensus.buildbin-libdir consensus_1.4.0.tar.gz
###
##############################################################################
##############################################################################
install for i386
* installing *source* package 'consensus' ...
** using staged installation
** R
** data
** inst
** byte-compile and prepare package for lazy loading
** help
*** installing help indices
  converting help for package 'consensus'
    finding HTML links ... done
    Agilent                                 html  
    ConsensusFit-class                      html  
    Huex                                    html  
    MultiMeasure-class                      html  
    MultiMeasure                            html  
    RNASeq                                  html  
    U133A                                   html  
    consensus-internal                      html  
    consensus-package                       html  
    fitConsensus                            html  
    plotMarginals                           html  
    plotMostDiscordant                      html  
    plotOneFit                              html  
** building package indices
** installing vignettes
** testing if installed package can be loaded from temporary location
** testing if installed package can be loaded from final location
** testing if installed package keeps a record of temporary installation path
install for x64
* installing *source* package 'consensus' ...
** testing if installed package can be loaded
* MD5 sums
packaged installation of 'consensus' as consensus_1.4.0.zip
* DONE (consensus)