| Back to Multiple platform build/check report for BioC 3.10 |
|
This page was generated on 2020-04-15 12:17:21 -0400 (Wed, 15 Apr 2020).
| Package 313/1823 | Hostname | OS / Arch | INSTALL | BUILD | CHECK | BUILD BIN | ||||||
| clusterStab 1.58.0 James W. MacDonald
| malbec1 | Linux (Ubuntu 18.04.4 LTS) / x86_64 | OK | OK | OK | |||||||
| tokay1 | Windows Server 2012 R2 Standard / x64 | OK | OK | OK | [ OK ] | |||||||
| merida1 | OS X 10.11.6 El Capitan / x86_64 | OK | OK | OK | OK |
| Package: clusterStab |
| Version: 1.58.0 |
| Command: rm -rf clusterStab.buildbin-libdir && mkdir clusterStab.buildbin-libdir && C:\Users\biocbuild\bbs-3.10-bioc\R\bin\R.exe CMD INSTALL --merge-multiarch --build --library=clusterStab.buildbin-libdir clusterStab_1.58.0.tar.gz |
| StartedAt: 2020-04-15 08:26:30 -0400 (Wed, 15 Apr 2020) |
| EndedAt: 2020-04-15 08:27:01 -0400 (Wed, 15 Apr 2020) |
| EllapsedTime: 31.3 seconds |
| RetCode: 0 |
| Status: OK |
| PackageFile: clusterStab_1.58.0.zip |
| PackageFileSize: 214.6 KiB |
##############################################################################
##############################################################################
###
### Running command:
###
### rm -rf clusterStab.buildbin-libdir && mkdir clusterStab.buildbin-libdir && C:\Users\biocbuild\bbs-3.10-bioc\R\bin\R.exe CMD INSTALL --merge-multiarch --build --library=clusterStab.buildbin-libdir clusterStab_1.58.0.tar.gz
###
##############################################################################
##############################################################################
install for i386
* installing *source* package 'clusterStab' ...
** using staged installation
** R
** inst
** byte-compile and prepare package for lazy loading
** help
*** installing help indices
converting help for package 'clusterStab'
finding HTML links ... done
BenHur-class html
ClusterComp-class html
benhur html
clusterComp html
** building package indices
** installing vignettes
** testing if installed package can be loaded from temporary location
** testing if installed package can be loaded from final location
** testing if installed package keeps a record of temporary installation path
install for x64
* installing *source* package 'clusterStab' ...
** testing if installed package can be loaded
* MD5 sums
packaged installation of 'clusterStab' as clusterStab_1.58.0.zip
* DONE (clusterStab)